BEGIN:VCALENDAR
VERSION:2.0
PRODID:-//Tabernacle Church - ECPv6.15.12.2//NONSGML v1.0//EN
CALSCALE:GREGORIAN
METHOD:PUBLISH
X-WR-CALNAME:Tabernacle Church
X-ORIGINAL-URL:https://tabernaclechurch.org
X-WR-CALDESC:Events for Tabernacle Church
REFRESH-INTERVAL;VALUE=DURATION:PT1H
X-Robots-Tag:noindex
X-PUBLISHED-TTL:PT1H
BEGIN:VTIMEZONE
TZID:America/New_York
BEGIN:DAYLIGHT
TZOFFSETFROM:-0500
TZOFFSETTO:-0400
TZNAME:EDT
DTSTART:20190310T070000
END:DAYLIGHT
BEGIN:STANDARD
TZOFFSETFROM:-0400
TZOFFSETTO:-0500
TZNAME:EST
DTSTART:20191103T060000
END:STANDARD
BEGIN:DAYLIGHT
TZOFFSETFROM:-0500
TZOFFSETTO:-0400
TZNAME:EDT
DTSTART:20200308T070000
END:DAYLIGHT
BEGIN:STANDARD
TZOFFSETFROM:-0400
TZOFFSETTO:-0500
TZNAME:EST
DTSTART:20201101T060000
END:STANDARD
BEGIN:DAYLIGHT
TZOFFSETFROM:-0500
TZOFFSETTO:-0400
TZNAME:EDT
DTSTART:20210314T070000
END:DAYLIGHT
BEGIN:STANDARD
TZOFFSETFROM:-0400
TZOFFSETTO:-0500
TZNAME:EST
DTSTART:20211107T060000
END:STANDARD
END:VTIMEZONE
BEGIN:VTIMEZONE
TZID:UTC
BEGIN:STANDARD
TZOFFSETFROM:+0000
TZOFFSETTO:+0000
TZNAME:UTC
DTSTART:20190101T000000
END:STANDARD
END:VTIMEZONE
BEGIN:VEVENT
DTSTART;TZID=America/New_York:20201002T183000
DTEND;TZID=America/New_York:20201002T193000
DTSTAMP:20260422T111647
CREATED:20190305T163447Z
LAST-MODIFIED:20190305T163447Z
UID:10000742-1601663400-1601667000@tabernaclechurch.org
SUMMARY:AA Meeting
DESCRIPTION:
URL:https://tabernaclechurch.org/event/aa-meeting-5/2020-10-02/
END:VEVENT
BEGIN:VEVENT
DTSTART;TZID=America/New_York:20201004T100000
DTEND;TZID=America/New_York:20201004T110000
DTSTAMP:20260422T111647
CREATED:20190411T161601Z
LAST-MODIFIED:20190411T225031Z
UID:10002682-1601805600-1601809200@tabernaclechurch.org
SUMMARY:Sunday Service
DESCRIPTION:
URL:https://tabernaclechurch.org/event/sunday-service/2020-10-04/
LOCATION:Tabernacle Church\, 50 Washington Street\, Salem\, MA\, 01970\, United States
GEO:42.5228131;-70.8961056
X-APPLE-STRUCTURED-LOCATION;VALUE=URI;X-ADDRESS=Tabernacle Church 50 Washington Street Salem MA 01970 United States;X-APPLE-RADIUS=500;X-TITLE=50 Washington Street:geo:-70.8961056,42.5228131
END:VEVENT
BEGIN:VEVENT
DTSTART;TZID=America/New_York:20201004T110000
DTEND;TZID=America/New_York:20201004T113000
DTSTAMP:20260422T111647
CREATED:20190305T164635Z
LAST-MODIFIED:20251230T171724Z
UID:10002963-1601809200-1601811000@tabernaclechurch.org
SUMMARY:Fellowship Time
DESCRIPTION:
URL:https://tabernaclechurch.org/event/fellowship-time-2/2020-10-04/
END:VEVENT
BEGIN:VEVENT
DTSTART;TZID=UTC:20201007T190000
DTEND;TZID=UTC:20201007T210000
DTSTAMP:20260422T111647
CREATED:20171023T220124Z
LAST-MODIFIED:20171023T220124Z
UID:10001155-1602097200-1602104400@tabernaclechurch.org
SUMMARY:Bible Study
DESCRIPTION:
URL:https://tabernaclechurch.org/event/bible-study/2020-10-07/
END:VEVENT
BEGIN:VEVENT
DTSTART;TZID=America/New_York:20201007T200000
DTEND;TZID=America/New_York:20201007T210000
DTSTAMP:20260422T111647
CREATED:20190305T163841Z
LAST-MODIFIED:20230315T190143Z
UID:10002795-1602100800-1602104400@tabernaclechurch.org
SUMMARY:AA Meeting
DESCRIPTION:
URL:https://tabernaclechurch.org/event/aa-meeting-6/2020-10-07/
END:VEVENT
BEGIN:VEVENT
DTSTART;TZID=America/New_York:20201009T183000
DTEND;TZID=America/New_York:20201009T193000
DTSTAMP:20260422T111647
CREATED:20190305T163447Z
LAST-MODIFIED:20190305T163447Z
UID:10000743-1602268200-1602271800@tabernaclechurch.org
SUMMARY:AA Meeting
DESCRIPTION:
URL:https://tabernaclechurch.org/event/aa-meeting-5/2020-10-09/
END:VEVENT
BEGIN:VEVENT
DTSTART;TZID=America/New_York:20201011T100000
DTEND;TZID=America/New_York:20201011T110000
DTSTAMP:20260422T111647
CREATED:20190411T161601Z
LAST-MODIFIED:20190411T225031Z
UID:10002683-1602410400-1602414000@tabernaclechurch.org
SUMMARY:Sunday Service
DESCRIPTION:
URL:https://tabernaclechurch.org/event/sunday-service/2020-10-11/
LOCATION:Tabernacle Church\, 50 Washington Street\, Salem\, MA\, 01970\, United States
GEO:42.5228131;-70.8961056
X-APPLE-STRUCTURED-LOCATION;VALUE=URI;X-ADDRESS=Tabernacle Church 50 Washington Street Salem MA 01970 United States;X-APPLE-RADIUS=500;X-TITLE=50 Washington Street:geo:-70.8961056,42.5228131
END:VEVENT
BEGIN:VEVENT
DTSTART;TZID=America/New_York:20201011T110000
DTEND;TZID=America/New_York:20201011T113000
DTSTAMP:20260422T111647
CREATED:20190305T164635Z
LAST-MODIFIED:20251230T171724Z
UID:10002964-1602414000-1602415800@tabernaclechurch.org
SUMMARY:Fellowship Time
DESCRIPTION:
URL:https://tabernaclechurch.org/event/fellowship-time-2/2020-10-11/
END:VEVENT
BEGIN:VEVENT
DTSTART;TZID=UTC:20201014T190000
DTEND;TZID=UTC:20201014T210000
DTSTAMP:20260422T111647
CREATED:20171023T220124Z
LAST-MODIFIED:20171023T220124Z
UID:10001156-1602702000-1602709200@tabernaclechurch.org
SUMMARY:Bible Study
DESCRIPTION:
URL:https://tabernaclechurch.org/event/bible-study/2020-10-14/
END:VEVENT
BEGIN:VEVENT
DTSTART;TZID=America/New_York:20201014T200000
DTEND;TZID=America/New_York:20201014T210000
DTSTAMP:20260422T111647
CREATED:20190305T163841Z
LAST-MODIFIED:20230315T190143Z
UID:10002796-1602705600-1602709200@tabernaclechurch.org
SUMMARY:AA Meeting
DESCRIPTION:
URL:https://tabernaclechurch.org/event/aa-meeting-6/2020-10-14/
END:VEVENT
BEGIN:VEVENT
DTSTART;TZID=America/New_York:20201016T183000
DTEND;TZID=America/New_York:20201016T193000
DTSTAMP:20260422T111647
CREATED:20190305T163447Z
LAST-MODIFIED:20190305T163447Z
UID:10000744-1602873000-1602876600@tabernaclechurch.org
SUMMARY:AA Meeting
DESCRIPTION:
URL:https://tabernaclechurch.org/event/aa-meeting-5/2020-10-16/
END:VEVENT
BEGIN:VEVENT
DTSTART;TZID=America/New_York:20201018T100000
DTEND;TZID=America/New_York:20201018T110000
DTSTAMP:20260422T111647
CREATED:20190411T161601Z
LAST-MODIFIED:20190411T225031Z
UID:10002684-1603015200-1603018800@tabernaclechurch.org
SUMMARY:Sunday Service
DESCRIPTION:
URL:https://tabernaclechurch.org/event/sunday-service/2020-10-18/
LOCATION:Tabernacle Church\, 50 Washington Street\, Salem\, MA\, 01970\, United States
GEO:42.5228131;-70.8961056
X-APPLE-STRUCTURED-LOCATION;VALUE=URI;X-ADDRESS=Tabernacle Church 50 Washington Street Salem MA 01970 United States;X-APPLE-RADIUS=500;X-TITLE=50 Washington Street:geo:-70.8961056,42.5228131
END:VEVENT
BEGIN:VEVENT
DTSTART;TZID=America/New_York:20201018T110000
DTEND;TZID=America/New_York:20201018T113000
DTSTAMP:20260422T111647
CREATED:20190305T164635Z
LAST-MODIFIED:20251230T171724Z
UID:10002965-1603018800-1603020600@tabernaclechurch.org
SUMMARY:Fellowship Time
DESCRIPTION:
URL:https://tabernaclechurch.org/event/fellowship-time-2/2020-10-18/
END:VEVENT
BEGIN:VEVENT
DTSTART;TZID=America/New_York:20201020T190000
DTEND;TZID=America/New_York:20201020T210000
DTSTAMP:20260422T111647
CREATED:20200415T164443Z
LAST-MODIFIED:20200422T174843Z
UID:10003342-1603220400-1603227600@tabernaclechurch.org
SUMMARY:Council Meeting
DESCRIPTION:  \n  \n  \n 
URL:https://tabernaclechurch.org/event/council-meeting-2/2020-10-20/
END:VEVENT
BEGIN:VEVENT
DTSTART;TZID=UTC:20201021T190000
DTEND;TZID=UTC:20201021T210000
DTSTAMP:20260422T111647
CREATED:20171023T220124Z
LAST-MODIFIED:20171023T220124Z
UID:10001157-1603306800-1603314000@tabernaclechurch.org
SUMMARY:Bible Study
DESCRIPTION:
URL:https://tabernaclechurch.org/event/bible-study/2020-10-21/
END:VEVENT
BEGIN:VEVENT
DTSTART;TZID=America/New_York:20201021T200000
DTEND;TZID=America/New_York:20201021T210000
DTSTAMP:20260422T111647
CREATED:20190305T163841Z
LAST-MODIFIED:20230315T190143Z
UID:10002797-1603310400-1603314000@tabernaclechurch.org
SUMMARY:AA Meeting
DESCRIPTION:
URL:https://tabernaclechurch.org/event/aa-meeting-6/2020-10-21/
END:VEVENT
BEGIN:VEVENT
DTSTART;TZID=America/New_York:20201023T183000
DTEND;TZID=America/New_York:20201023T193000
DTSTAMP:20260422T111647
CREATED:20190305T163447Z
LAST-MODIFIED:20190305T163447Z
UID:10000745-1603477800-1603481400@tabernaclechurch.org
SUMMARY:AA Meeting
DESCRIPTION:
URL:https://tabernaclechurch.org/event/aa-meeting-5/2020-10-23/
END:VEVENT
BEGIN:VEVENT
DTSTART;TZID=America/New_York:20201025T100000
DTEND;TZID=America/New_York:20201025T110000
DTSTAMP:20260422T111647
CREATED:20190411T161601Z
LAST-MODIFIED:20190411T225031Z
UID:10002685-1603620000-1603623600@tabernaclechurch.org
SUMMARY:Sunday Service
DESCRIPTION:
URL:https://tabernaclechurch.org/event/sunday-service/2020-10-25/
LOCATION:Tabernacle Church\, 50 Washington Street\, Salem\, MA\, 01970\, United States
GEO:42.5228131;-70.8961056
X-APPLE-STRUCTURED-LOCATION;VALUE=URI;X-ADDRESS=Tabernacle Church 50 Washington Street Salem MA 01970 United States;X-APPLE-RADIUS=500;X-TITLE=50 Washington Street:geo:-70.8961056,42.5228131
END:VEVENT
BEGIN:VEVENT
DTSTART;TZID=America/New_York:20201025T110000
DTEND;TZID=America/New_York:20201025T113000
DTSTAMP:20260422T111647
CREATED:20190305T164635Z
LAST-MODIFIED:20251230T171724Z
UID:10002966-1603623600-1603625400@tabernaclechurch.org
SUMMARY:Fellowship Time
DESCRIPTION:
URL:https://tabernaclechurch.org/event/fellowship-time-2/2020-10-25/
END:VEVENT
BEGIN:VEVENT
DTSTART;TZID=America/New_York:20201026T170000
DTEND;TZID=America/New_York:20201026T190000
DTSTAMP:20260422T111647
CREATED:20200116T121744Z
LAST-MODIFIED:20200116T121744Z
UID:10000993-1603731600-1603738800@tabernaclechurch.org
SUMMARY:LifeBridge Dinner
DESCRIPTION:
URL:https://tabernaclechurch.org/event/lifebridge-dinner-2/2020-10-26/
LOCATION:LifeBridge Shelter\, 56 Margin St\, Salem\, 01970\, United States
END:VEVENT
BEGIN:VEVENT
DTSTART;TZID=UTC:20201028T190000
DTEND;TZID=UTC:20201028T210000
DTSTAMP:20260422T111647
CREATED:20171023T220124Z
LAST-MODIFIED:20171023T220124Z
UID:10001158-1603911600-1603918800@tabernaclechurch.org
SUMMARY:Bible Study
DESCRIPTION:
URL:https://tabernaclechurch.org/event/bible-study/2020-10-28/
END:VEVENT
BEGIN:VEVENT
DTSTART;TZID=America/New_York:20201028T200000
DTEND;TZID=America/New_York:20201028T210000
DTSTAMP:20260422T111647
CREATED:20190305T163841Z
LAST-MODIFIED:20230315T190143Z
UID:10002798-1603915200-1603918800@tabernaclechurch.org
SUMMARY:AA Meeting
DESCRIPTION:
URL:https://tabernaclechurch.org/event/aa-meeting-6/2020-10-28/
END:VEVENT
BEGIN:VEVENT
DTSTART;TZID=America/New_York:20201030T183000
DTEND;TZID=America/New_York:20201030T193000
DTSTAMP:20260422T111647
CREATED:20190305T163447Z
LAST-MODIFIED:20190305T163447Z
UID:10000746-1604082600-1604086200@tabernaclechurch.org
SUMMARY:AA Meeting
DESCRIPTION:
URL:https://tabernaclechurch.org/event/aa-meeting-5/2020-10-30/
END:VEVENT
END:VCALENDAR