BEGIN:VCALENDAR
VERSION:2.0
PRODID:-//Tabernacle Church - ECPv6.15.12.2//NONSGML v1.0//EN
CALSCALE:GREGORIAN
METHOD:PUBLISH
X-WR-CALNAME:Tabernacle Church
X-ORIGINAL-URL:https://tabernaclechurch.org
X-WR-CALDESC:Events for Tabernacle Church
REFRESH-INTERVAL;VALUE=DURATION:PT1H
X-Robots-Tag:noindex
X-PUBLISHED-TTL:PT1H
BEGIN:VTIMEZONE
TZID:UTC
BEGIN:STANDARD
TZOFFSETFROM:+0000
TZOFFSETTO:+0000
TZNAME:UTC
DTSTART:20200101T000000
END:STANDARD
END:VTIMEZONE
BEGIN:VTIMEZONE
TZID:America/New_York
BEGIN:DAYLIGHT
TZOFFSETFROM:-0500
TZOFFSETTO:-0400
TZNAME:EDT
DTSTART:20200308T070000
END:DAYLIGHT
BEGIN:STANDARD
TZOFFSETFROM:-0400
TZOFFSETTO:-0500
TZNAME:EST
DTSTART:20201101T060000
END:STANDARD
BEGIN:DAYLIGHT
TZOFFSETFROM:-0500
TZOFFSETTO:-0400
TZNAME:EDT
DTSTART:20210314T070000
END:DAYLIGHT
BEGIN:STANDARD
TZOFFSETFROM:-0400
TZOFFSETTO:-0500
TZNAME:EST
DTSTART:20211107T060000
END:STANDARD
BEGIN:DAYLIGHT
TZOFFSETFROM:-0500
TZOFFSETTO:-0400
TZNAME:EDT
DTSTART:20220313T070000
END:DAYLIGHT
BEGIN:STANDARD
TZOFFSETFROM:-0400
TZOFFSETTO:-0500
TZNAME:EST
DTSTART:20221106T060000
END:STANDARD
END:VTIMEZONE
BEGIN:VEVENT
DTSTART;TZID=UTC:20210602T190000
DTEND;TZID=UTC:20210602T210000
DTSTAMP:20260423T220117
CREATED:20171023T220124Z
LAST-MODIFIED:20171023T220124Z
UID:10001189-1622660400-1622667600@tabernaclechurch.org
SUMMARY:Bible Study
DESCRIPTION:
URL:https://tabernaclechurch.org/event/bible-study/2021-06-02/
END:VEVENT
BEGIN:VEVENT
DTSTART;TZID=America/New_York:20210602T200000
DTEND;TZID=America/New_York:20210602T210000
DTSTAMP:20260423T220118
CREATED:20190305T163841Z
LAST-MODIFIED:20230315T190143Z
UID:10002810-1622664000-1622667600@tabernaclechurch.org
SUMMARY:AA Meeting
DESCRIPTION:
URL:https://tabernaclechurch.org/event/aa-meeting-6/2021-06-02/
END:VEVENT
BEGIN:VEVENT
DTSTART;TZID=America/New_York:20210604T183000
DTEND;TZID=America/New_York:20210604T193000
DTSTAMP:20260423T220118
CREATED:20190305T163447Z
LAST-MODIFIED:20190305T163447Z
UID:10000757-1622831400-1622835000@tabernaclechurch.org
SUMMARY:AA Meeting
DESCRIPTION:
URL:https://tabernaclechurch.org/event/aa-meeting-5/2021-06-04/
END:VEVENT
BEGIN:VEVENT
DTSTART;TZID=America/New_York:20210606T110000
DTEND;TZID=America/New_York:20210606T113000
DTSTAMP:20260423T220118
CREATED:20190305T164635Z
LAST-MODIFIED:20251230T171724Z
UID:10002979-1622977200-1622979000@tabernaclechurch.org
SUMMARY:Fellowship Time
DESCRIPTION:
URL:https://tabernaclechurch.org/event/fellowship-time-2/2021-06-06/
END:VEVENT
BEGIN:VEVENT
DTSTART;TZID=UTC:20210609T190000
DTEND;TZID=UTC:20210609T210000
DTSTAMP:20260423T220118
CREATED:20171023T220124Z
LAST-MODIFIED:20171023T220124Z
UID:10001190-1623265200-1623272400@tabernaclechurch.org
SUMMARY:Bible Study
DESCRIPTION:
URL:https://tabernaclechurch.org/event/bible-study/2021-06-09/
END:VEVENT
BEGIN:VEVENT
DTSTART;TZID=America/New_York:20210609T200000
DTEND;TZID=America/New_York:20210609T210000
DTSTAMP:20260423T220118
CREATED:20190305T163841Z
LAST-MODIFIED:20230315T190143Z
UID:10002811-1623268800-1623272400@tabernaclechurch.org
SUMMARY:AA Meeting
DESCRIPTION:
URL:https://tabernaclechurch.org/event/aa-meeting-6/2021-06-09/
END:VEVENT
BEGIN:VEVENT
DTSTART;TZID=America/New_York:20210611T183000
DTEND;TZID=America/New_York:20210611T193000
DTSTAMP:20260423T220118
CREATED:20190305T163447Z
LAST-MODIFIED:20190305T163447Z
UID:10000758-1623436200-1623439800@tabernaclechurch.org
SUMMARY:AA Meeting
DESCRIPTION:
URL:https://tabernaclechurch.org/event/aa-meeting-5/2021-06-11/
END:VEVENT
BEGIN:VEVENT
DTSTART;TZID=America/New_York:20210613T110000
DTEND;TZID=America/New_York:20210613T113000
DTSTAMP:20260423T220118
CREATED:20190305T164635Z
LAST-MODIFIED:20251230T171724Z
UID:10002980-1623582000-1623583800@tabernaclechurch.org
SUMMARY:Fellowship Time
DESCRIPTION:
URL:https://tabernaclechurch.org/event/fellowship-time-2/2021-06-13/
END:VEVENT
BEGIN:VEVENT
DTSTART;TZID=UTC:20210616T190000
DTEND;TZID=UTC:20210616T210000
DTSTAMP:20260423T220118
CREATED:20171023T220124Z
LAST-MODIFIED:20171023T220124Z
UID:10001191-1623870000-1623877200@tabernaclechurch.org
SUMMARY:Bible Study
DESCRIPTION:
URL:https://tabernaclechurch.org/event/bible-study/2021-06-16/
END:VEVENT
BEGIN:VEVENT
DTSTART;TZID=America/New_York:20210616T200000
DTEND;TZID=America/New_York:20210616T210000
DTSTAMP:20260423T220118
CREATED:20190305T163841Z
LAST-MODIFIED:20230315T190143Z
UID:10002812-1623873600-1623877200@tabernaclechurch.org
SUMMARY:AA Meeting
DESCRIPTION:
URL:https://tabernaclechurch.org/event/aa-meeting-6/2021-06-16/
END:VEVENT
BEGIN:VEVENT
DTSTART;TZID=America/New_York:20210618T183000
DTEND;TZID=America/New_York:20210618T193000
DTSTAMP:20260423T220118
CREATED:20190305T163447Z
LAST-MODIFIED:20190305T163447Z
UID:10000759-1624041000-1624044600@tabernaclechurch.org
SUMMARY:AA Meeting
DESCRIPTION:
URL:https://tabernaclechurch.org/event/aa-meeting-5/2021-06-18/
END:VEVENT
BEGIN:VEVENT
DTSTART;TZID=America/New_York:20210620T110000
DTEND;TZID=America/New_York:20210620T113000
DTSTAMP:20260423T220118
CREATED:20190305T164635Z
LAST-MODIFIED:20251230T171724Z
UID:10002981-1624186800-1624188600@tabernaclechurch.org
SUMMARY:Fellowship Time
DESCRIPTION:
URL:https://tabernaclechurch.org/event/fellowship-time-2/2021-06-20/
END:VEVENT
BEGIN:VEVENT
DTSTART;TZID=UTC:20210623T190000
DTEND;TZID=UTC:20210623T210000
DTSTAMP:20260423T220118
CREATED:20171023T220124Z
LAST-MODIFIED:20171023T220124Z
UID:10001192-1624474800-1624482000@tabernaclechurch.org
SUMMARY:Bible Study
DESCRIPTION:
URL:https://tabernaclechurch.org/event/bible-study/2021-06-23/
END:VEVENT
BEGIN:VEVENT
DTSTART;TZID=America/New_York:20210623T200000
DTEND;TZID=America/New_York:20210623T210000
DTSTAMP:20260423T220118
CREATED:20190305T163841Z
LAST-MODIFIED:20230315T190143Z
UID:10002813-1624478400-1624482000@tabernaclechurch.org
SUMMARY:AA Meeting
DESCRIPTION:
URL:https://tabernaclechurch.org/event/aa-meeting-6/2021-06-23/
END:VEVENT
BEGIN:VEVENT
DTSTART;TZID=America/New_York:20210625T183000
DTEND;TZID=America/New_York:20210625T193000
DTSTAMP:20260423T220118
CREATED:20190305T163447Z
LAST-MODIFIED:20190305T163447Z
UID:10000760-1624645800-1624649400@tabernaclechurch.org
SUMMARY:AA Meeting
DESCRIPTION:
URL:https://tabernaclechurch.org/event/aa-meeting-5/2021-06-25/
END:VEVENT
BEGIN:VEVENT
DTSTART;TZID=America/New_York:20210627T110000
DTEND;TZID=America/New_York:20210627T113000
DTSTAMP:20260423T220118
CREATED:20190305T164635Z
LAST-MODIFIED:20251230T171724Z
UID:10002982-1624791600-1624793400@tabernaclechurch.org
SUMMARY:Fellowship Time
DESCRIPTION:
URL:https://tabernaclechurch.org/event/fellowship-time-2/2021-06-27/
END:VEVENT
BEGIN:VEVENT
DTSTART;TZID=UTC:20210630T190000
DTEND;TZID=UTC:20210630T210000
DTSTAMP:20260423T220118
CREATED:20171023T220124Z
LAST-MODIFIED:20171023T220124Z
UID:10001193-1625079600-1625086800@tabernaclechurch.org
SUMMARY:Bible Study
DESCRIPTION:
URL:https://tabernaclechurch.org/event/bible-study/2021-06-30/
END:VEVENT
BEGIN:VEVENT
DTSTART;TZID=America/New_York:20210630T200000
DTEND;TZID=America/New_York:20210630T210000
DTSTAMP:20260423T220118
CREATED:20190305T163841Z
LAST-MODIFIED:20230315T190143Z
UID:10002814-1625083200-1625086800@tabernaclechurch.org
SUMMARY:AA Meeting
DESCRIPTION:
URL:https://tabernaclechurch.org/event/aa-meeting-6/2021-06-30/
END:VEVENT
END:VCALENDAR