BEGIN:VCALENDAR
VERSION:2.0
PRODID:-//Tabernacle Church - ECPv6.15.12.2//NONSGML v1.0//EN
CALSCALE:GREGORIAN
METHOD:PUBLISH
X-WR-CALNAME:Tabernacle Church
X-ORIGINAL-URL:https://tabernaclechurch.org
X-WR-CALDESC:Events for Tabernacle Church
REFRESH-INTERVAL;VALUE=DURATION:PT1H
X-Robots-Tag:noindex
X-PUBLISHED-TTL:PT1H
BEGIN:VTIMEZONE
TZID:UTC
BEGIN:STANDARD
TZOFFSETFROM:+0000
TZOFFSETTO:+0000
TZNAME:UTC
DTSTART:20200101T000000
END:STANDARD
END:VTIMEZONE
BEGIN:VTIMEZONE
TZID:America/New_York
BEGIN:DAYLIGHT
TZOFFSETFROM:-0500
TZOFFSETTO:-0400
TZNAME:EDT
DTSTART:20200308T070000
END:DAYLIGHT
BEGIN:STANDARD
TZOFFSETFROM:-0400
TZOFFSETTO:-0500
TZNAME:EST
DTSTART:20201101T060000
END:STANDARD
BEGIN:DAYLIGHT
TZOFFSETFROM:-0500
TZOFFSETTO:-0400
TZNAME:EDT
DTSTART:20210314T070000
END:DAYLIGHT
BEGIN:STANDARD
TZOFFSETFROM:-0400
TZOFFSETTO:-0500
TZNAME:EST
DTSTART:20211107T060000
END:STANDARD
BEGIN:DAYLIGHT
TZOFFSETFROM:-0500
TZOFFSETTO:-0400
TZNAME:EDT
DTSTART:20220313T070000
END:DAYLIGHT
BEGIN:STANDARD
TZOFFSETFROM:-0400
TZOFFSETTO:-0500
TZNAME:EST
DTSTART:20221106T060000
END:STANDARD
END:VTIMEZONE
BEGIN:VEVENT
DTSTART;TZID=UTC:20210901T190000
DTEND;TZID=UTC:20210901T210000
DTSTAMP:20260417T155312
CREATED:20171023T220124Z
LAST-MODIFIED:20171023T220124Z
UID:10001202-1630522800-1630530000@tabernaclechurch.org
SUMMARY:Bible Study
DESCRIPTION:
URL:https://tabernaclechurch.org/event/bible-study/2021-09-01/
END:VEVENT
BEGIN:VEVENT
DTSTART;TZID=America/New_York:20210901T200000
DTEND;TZID=America/New_York:20210901T210000
DTSTAMP:20260417T155312
CREATED:20190305T163841Z
LAST-MODIFIED:20230315T190143Z
UID:10002823-1630526400-1630530000@tabernaclechurch.org
SUMMARY:AA Meeting
DESCRIPTION:
URL:https://tabernaclechurch.org/event/aa-meeting-6/2021-09-01/
END:VEVENT
BEGIN:VEVENT
DTSTART;TZID=America/New_York:20210903T183000
DTEND;TZID=America/New_York:20210903T193000
DTSTAMP:20260417T155312
CREATED:20190305T163447Z
LAST-MODIFIED:20190305T163447Z
UID:10000770-1630693800-1630697400@tabernaclechurch.org
SUMMARY:AA Meeting
DESCRIPTION:
URL:https://tabernaclechurch.org/event/aa-meeting-5/2021-09-03/
END:VEVENT
BEGIN:VEVENT
DTSTART;TZID=America/New_York:20210905T110000
DTEND;TZID=America/New_York:20210905T113000
DTSTAMP:20260417T155312
CREATED:20190305T164635Z
LAST-MODIFIED:20251230T171724Z
UID:10002991-1630839600-1630841400@tabernaclechurch.org
SUMMARY:Fellowship Time
DESCRIPTION:
URL:https://tabernaclechurch.org/event/fellowship-time-2/2021-09-05/
END:VEVENT
BEGIN:VEVENT
DTSTART;TZID=UTC:20210908T190000
DTEND;TZID=UTC:20210908T210000
DTSTAMP:20260417T155312
CREATED:20171023T220124Z
LAST-MODIFIED:20171023T220124Z
UID:10001203-1631127600-1631134800@tabernaclechurch.org
SUMMARY:Bible Study
DESCRIPTION:
URL:https://tabernaclechurch.org/event/bible-study/2021-09-08/
END:VEVENT
BEGIN:VEVENT
DTSTART;TZID=America/New_York:20210908T200000
DTEND;TZID=America/New_York:20210908T210000
DTSTAMP:20260417T155312
CREATED:20190305T163841Z
LAST-MODIFIED:20230315T190143Z
UID:10002824-1631131200-1631134800@tabernaclechurch.org
SUMMARY:AA Meeting
DESCRIPTION:
URL:https://tabernaclechurch.org/event/aa-meeting-6/2021-09-08/
END:VEVENT
BEGIN:VEVENT
DTSTART;TZID=America/New_York:20210910T183000
DTEND;TZID=America/New_York:20210910T193000
DTSTAMP:20260417T155312
CREATED:20190305T163447Z
LAST-MODIFIED:20190305T163447Z
UID:10000771-1631298600-1631302200@tabernaclechurch.org
SUMMARY:AA Meeting
DESCRIPTION:
URL:https://tabernaclechurch.org/event/aa-meeting-5/2021-09-10/
END:VEVENT
BEGIN:VEVENT
DTSTART;TZID=America/New_York:20210912T110000
DTEND;TZID=America/New_York:20210912T113000
DTSTAMP:20260417T155312
CREATED:20190305T164635Z
LAST-MODIFIED:20251230T171724Z
UID:10002992-1631444400-1631446200@tabernaclechurch.org
SUMMARY:Fellowship Time
DESCRIPTION:
URL:https://tabernaclechurch.org/event/fellowship-time-2/2021-09-12/
END:VEVENT
BEGIN:VEVENT
DTSTART;TZID=UTC:20210915T190000
DTEND;TZID=UTC:20210915T210000
DTSTAMP:20260417T155312
CREATED:20171023T220124Z
LAST-MODIFIED:20171023T220124Z
UID:10001204-1631732400-1631739600@tabernaclechurch.org
SUMMARY:Bible Study
DESCRIPTION:
URL:https://tabernaclechurch.org/event/bible-study/2021-09-15/
END:VEVENT
BEGIN:VEVENT
DTSTART;TZID=America/New_York:20210915T200000
DTEND;TZID=America/New_York:20210915T210000
DTSTAMP:20260417T155312
CREATED:20190305T163841Z
LAST-MODIFIED:20230315T190143Z
UID:10002825-1631736000-1631739600@tabernaclechurch.org
SUMMARY:AA Meeting
DESCRIPTION:
URL:https://tabernaclechurch.org/event/aa-meeting-6/2021-09-15/
END:VEVENT
BEGIN:VEVENT
DTSTART;TZID=America/New_York:20210917T183000
DTEND;TZID=America/New_York:20210917T193000
DTSTAMP:20260417T155312
CREATED:20190305T163447Z
LAST-MODIFIED:20190305T163447Z
UID:10000772-1631903400-1631907000@tabernaclechurch.org
SUMMARY:AA Meeting
DESCRIPTION:
URL:https://tabernaclechurch.org/event/aa-meeting-5/2021-09-17/
END:VEVENT
BEGIN:VEVENT
DTSTART;TZID=America/New_York:20210919T110000
DTEND;TZID=America/New_York:20210919T113000
DTSTAMP:20260417T155312
CREATED:20190305T164635Z
LAST-MODIFIED:20251230T171724Z
UID:10002993-1632049200-1632051000@tabernaclechurch.org
SUMMARY:Fellowship Time
DESCRIPTION:
URL:https://tabernaclechurch.org/event/fellowship-time-2/2021-09-19/
END:VEVENT
BEGIN:VEVENT
DTSTART;TZID=UTC:20210922T190000
DTEND;TZID=UTC:20210922T210000
DTSTAMP:20260417T155312
CREATED:20171023T220124Z
LAST-MODIFIED:20171023T220124Z
UID:10001205-1632337200-1632344400@tabernaclechurch.org
SUMMARY:Bible Study
DESCRIPTION:
URL:https://tabernaclechurch.org/event/bible-study/2021-09-22/
END:VEVENT
BEGIN:VEVENT
DTSTART;TZID=America/New_York:20210922T200000
DTEND;TZID=America/New_York:20210922T210000
DTSTAMP:20260417T155312
CREATED:20190305T163841Z
LAST-MODIFIED:20230315T190143Z
UID:10002826-1632340800-1632344400@tabernaclechurch.org
SUMMARY:AA Meeting
DESCRIPTION:
URL:https://tabernaclechurch.org/event/aa-meeting-6/2021-09-22/
END:VEVENT
BEGIN:VEVENT
DTSTART;TZID=America/New_York:20210924T183000
DTEND;TZID=America/New_York:20210924T193000
DTSTAMP:20260417T155312
CREATED:20190305T163447Z
LAST-MODIFIED:20190305T163447Z
UID:10000773-1632508200-1632511800@tabernaclechurch.org
SUMMARY:AA Meeting
DESCRIPTION:
URL:https://tabernaclechurch.org/event/aa-meeting-5/2021-09-24/
END:VEVENT
BEGIN:VEVENT
DTSTART;TZID=America/New_York:20210926T110000
DTEND;TZID=America/New_York:20210926T113000
DTSTAMP:20260417T155312
CREATED:20190305T164635Z
LAST-MODIFIED:20251230T171724Z
UID:10002994-1632654000-1632655800@tabernaclechurch.org
SUMMARY:Fellowship Time
DESCRIPTION:
URL:https://tabernaclechurch.org/event/fellowship-time-2/2021-09-26/
END:VEVENT
BEGIN:VEVENT
DTSTART;TZID=UTC:20210929T190000
DTEND;TZID=UTC:20210929T210000
DTSTAMP:20260417T155312
CREATED:20171023T220124Z
LAST-MODIFIED:20171023T220124Z
UID:10001206-1632942000-1632949200@tabernaclechurch.org
SUMMARY:Bible Study
DESCRIPTION:
URL:https://tabernaclechurch.org/event/bible-study/2021-09-29/
END:VEVENT
BEGIN:VEVENT
DTSTART;TZID=America/New_York:20210929T200000
DTEND;TZID=America/New_York:20210929T210000
DTSTAMP:20260417T155312
CREATED:20190305T163841Z
LAST-MODIFIED:20230315T190143Z
UID:10002827-1632945600-1632949200@tabernaclechurch.org
SUMMARY:AA Meeting
DESCRIPTION:
URL:https://tabernaclechurch.org/event/aa-meeting-6/2021-09-29/
END:VEVENT
END:VCALENDAR