BEGIN:VCALENDAR
VERSION:2.0
PRODID:-//Tabernacle Church - ECPv6.15.12.2//NONSGML v1.0//EN
CALSCALE:GREGORIAN
METHOD:PUBLISH
X-ORIGINAL-URL:https://tabernaclechurch.org
X-WR-CALDESC:Events for Tabernacle Church
REFRESH-INTERVAL;VALUE=DURATION:PT1H
X-Robots-Tag:noindex
X-PUBLISHED-TTL:PT1H
BEGIN:VTIMEZONE
TZID:America/New_York
BEGIN:DAYLIGHT
TZOFFSETFROM:-0500
TZOFFSETTO:-0400
TZNAME:EDT
DTSTART:20200308T070000
END:DAYLIGHT
BEGIN:STANDARD
TZOFFSETFROM:-0400
TZOFFSETTO:-0500
TZNAME:EST
DTSTART:20201101T060000
END:STANDARD
BEGIN:DAYLIGHT
TZOFFSETFROM:-0500
TZOFFSETTO:-0400
TZNAME:EDT
DTSTART:20210314T070000
END:DAYLIGHT
BEGIN:STANDARD
TZOFFSETFROM:-0400
TZOFFSETTO:-0500
TZNAME:EST
DTSTART:20211107T060000
END:STANDARD
BEGIN:DAYLIGHT
TZOFFSETFROM:-0500
TZOFFSETTO:-0400
TZNAME:EDT
DTSTART:20220313T070000
END:DAYLIGHT
BEGIN:STANDARD
TZOFFSETFROM:-0400
TZOFFSETTO:-0500
TZNAME:EST
DTSTART:20221106T060000
END:STANDARD
END:VTIMEZONE
BEGIN:VTIMEZONE
TZID:UTC
BEGIN:STANDARD
TZOFFSETFROM:+0000
TZOFFSETTO:+0000
TZNAME:UTC
DTSTART:20200101T000000
END:STANDARD
END:VTIMEZONE
BEGIN:VEVENT
DTSTART;TZID=America/New_York:20211001T183000
DTEND;TZID=America/New_York:20211001T193000
DTSTAMP:20260417T210019
CREATED:20190305T163447Z
LAST-MODIFIED:20190305T163447Z
UID:10000774-1633113000-1633116600@tabernaclechurch.org
SUMMARY:AA Meeting
DESCRIPTION:
URL:https://tabernaclechurch.org/event/aa-meeting-5/2021-10-01/
END:VEVENT
BEGIN:VEVENT
DTSTART;TZID=America/New_York:20211003T110000
DTEND;TZID=America/New_York:20211003T113000
DTSTAMP:20260417T210019
CREATED:20190305T164635Z
LAST-MODIFIED:20251230T171724Z
UID:10002995-1633258800-1633260600@tabernaclechurch.org
SUMMARY:Fellowship Time
DESCRIPTION:
URL:https://tabernaclechurch.org/event/fellowship-time-2/2021-10-03/
END:VEVENT
BEGIN:VEVENT
DTSTART;TZID=UTC:20211006T190000
DTEND;TZID=UTC:20211006T210000
DTSTAMP:20260417T210019
CREATED:20171023T220124Z
LAST-MODIFIED:20171023T220124Z
UID:10001207-1633546800-1633554000@tabernaclechurch.org
SUMMARY:Bible Study
DESCRIPTION:
URL:https://tabernaclechurch.org/event/bible-study/2021-10-06/
END:VEVENT
BEGIN:VEVENT
DTSTART;TZID=America/New_York:20211006T200000
DTEND;TZID=America/New_York:20211006T210000
DTSTAMP:20260417T210019
CREATED:20190305T163841Z
LAST-MODIFIED:20230315T190143Z
UID:10002828-1633550400-1633554000@tabernaclechurch.org
SUMMARY:AA Meeting
DESCRIPTION:
URL:https://tabernaclechurch.org/event/aa-meeting-6/2021-10-06/
END:VEVENT
BEGIN:VEVENT
DTSTART;TZID=America/New_York:20211008T183000
DTEND;TZID=America/New_York:20211008T193000
DTSTAMP:20260417T210019
CREATED:20190305T163447Z
LAST-MODIFIED:20190305T163447Z
UID:10000775-1633717800-1633721400@tabernaclechurch.org
SUMMARY:AA Meeting
DESCRIPTION:
URL:https://tabernaclechurch.org/event/aa-meeting-5/2021-10-08/
END:VEVENT
BEGIN:VEVENT
DTSTART;TZID=America/New_York:20211010T110000
DTEND;TZID=America/New_York:20211010T113000
DTSTAMP:20260417T210019
CREATED:20190305T164635Z
LAST-MODIFIED:20251230T171724Z
UID:10002996-1633863600-1633865400@tabernaclechurch.org
SUMMARY:Fellowship Time
DESCRIPTION:
URL:https://tabernaclechurch.org/event/fellowship-time-2/2021-10-10/
END:VEVENT
BEGIN:VEVENT
DTSTART;TZID=UTC:20211013T190000
DTEND;TZID=UTC:20211013T210000
DTSTAMP:20260417T210019
CREATED:20171023T220124Z
LAST-MODIFIED:20171023T220124Z
UID:10001208-1634151600-1634158800@tabernaclechurch.org
SUMMARY:Bible Study
DESCRIPTION:
URL:https://tabernaclechurch.org/event/bible-study/2021-10-13/
END:VEVENT
BEGIN:VEVENT
DTSTART;TZID=America/New_York:20211013T200000
DTEND;TZID=America/New_York:20211013T210000
DTSTAMP:20260417T210019
CREATED:20190305T163841Z
LAST-MODIFIED:20230315T190143Z
UID:10002829-1634155200-1634158800@tabernaclechurch.org
SUMMARY:AA Meeting
DESCRIPTION:
URL:https://tabernaclechurch.org/event/aa-meeting-6/2021-10-13/
END:VEVENT
BEGIN:VEVENT
DTSTART;TZID=America/New_York:20211015T183000
DTEND;TZID=America/New_York:20211015T193000
DTSTAMP:20260417T210019
CREATED:20190305T163447Z
LAST-MODIFIED:20190305T163447Z
UID:10000776-1634322600-1634326200@tabernaclechurch.org
SUMMARY:AA Meeting
DESCRIPTION:
URL:https://tabernaclechurch.org/event/aa-meeting-5/2021-10-15/
END:VEVENT
BEGIN:VEVENT
DTSTART;TZID=America/New_York:20211017T110000
DTEND;TZID=America/New_York:20211017T113000
DTSTAMP:20260417T210019
CREATED:20190305T164635Z
LAST-MODIFIED:20251230T171724Z
UID:10002997-1634468400-1634470200@tabernaclechurch.org
SUMMARY:Fellowship Time
DESCRIPTION:
URL:https://tabernaclechurch.org/event/fellowship-time-2/2021-10-17/
END:VEVENT
BEGIN:VEVENT
DTSTART;TZID=UTC:20211020T190000
DTEND;TZID=UTC:20211020T210000
DTSTAMP:20260417T210019
CREATED:20171023T220124Z
LAST-MODIFIED:20171023T220124Z
UID:10001209-1634756400-1634763600@tabernaclechurch.org
SUMMARY:Bible Study
DESCRIPTION:
URL:https://tabernaclechurch.org/event/bible-study/2021-10-20/
END:VEVENT
BEGIN:VEVENT
DTSTART;TZID=America/New_York:20211020T200000
DTEND;TZID=America/New_York:20211020T210000
DTSTAMP:20260417T210019
CREATED:20190305T163841Z
LAST-MODIFIED:20230315T190143Z
UID:10002830-1634760000-1634763600@tabernaclechurch.org
SUMMARY:AA Meeting
DESCRIPTION:
URL:https://tabernaclechurch.org/event/aa-meeting-6/2021-10-20/
END:VEVENT
BEGIN:VEVENT
DTSTART;TZID=America/New_York:20211022T183000
DTEND;TZID=America/New_York:20211022T193000
DTSTAMP:20260417T210019
CREATED:20190305T163447Z
LAST-MODIFIED:20190305T163447Z
UID:10000777-1634927400-1634931000@tabernaclechurch.org
SUMMARY:AA Meeting
DESCRIPTION:
URL:https://tabernaclechurch.org/event/aa-meeting-5/2021-10-22/
END:VEVENT
BEGIN:VEVENT
DTSTART;TZID=America/New_York:20211024T110000
DTEND;TZID=America/New_York:20211024T113000
DTSTAMP:20260417T210019
CREATED:20190305T164635Z
LAST-MODIFIED:20251230T171724Z
UID:10002998-1635073200-1635075000@tabernaclechurch.org
SUMMARY:Fellowship Time
DESCRIPTION:
URL:https://tabernaclechurch.org/event/fellowship-time-2/2021-10-24/
END:VEVENT
BEGIN:VEVENT
DTSTART;TZID=UTC:20211027T190000
DTEND;TZID=UTC:20211027T210000
DTSTAMP:20260417T210019
CREATED:20171023T220124Z
LAST-MODIFIED:20171023T220124Z
UID:10001210-1635361200-1635368400@tabernaclechurch.org
SUMMARY:Bible Study
DESCRIPTION:
URL:https://tabernaclechurch.org/event/bible-study/2021-10-27/
END:VEVENT
BEGIN:VEVENT
DTSTART;TZID=America/New_York:20211027T200000
DTEND;TZID=America/New_York:20211027T210000
DTSTAMP:20260417T210019
CREATED:20190305T163841Z
LAST-MODIFIED:20230315T190143Z
UID:10002831-1635364800-1635368400@tabernaclechurch.org
SUMMARY:AA Meeting
DESCRIPTION:
URL:https://tabernaclechurch.org/event/aa-meeting-6/2021-10-27/
END:VEVENT
BEGIN:VEVENT
DTSTART;TZID=America/New_York:20211029T183000
DTEND;TZID=America/New_York:20211029T193000
DTSTAMP:20260417T210019
CREATED:20190305T163447Z
LAST-MODIFIED:20190305T163447Z
UID:10000778-1635532200-1635535800@tabernaclechurch.org
SUMMARY:AA Meeting
DESCRIPTION:
URL:https://tabernaclechurch.org/event/aa-meeting-5/2021-10-29/
END:VEVENT
BEGIN:VEVENT
DTSTART;TZID=America/New_York:20211031T110000
DTEND;TZID=America/New_York:20211031T113000
DTSTAMP:20260417T210019
CREATED:20190305T164635Z
LAST-MODIFIED:20251230T171724Z
UID:10002999-1635678000-1635679800@tabernaclechurch.org
SUMMARY:Fellowship Time
DESCRIPTION:
URL:https://tabernaclechurch.org/event/fellowship-time-2/2021-10-31/
END:VEVENT
END:VCALENDAR