BEGIN:VCALENDAR
VERSION:2.0
PRODID:-//Tabernacle Church - ECPv6.15.12.2//NONSGML v1.0//EN
CALSCALE:GREGORIAN
METHOD:PUBLISH
X-ORIGINAL-URL:https://tabernaclechurch.org
X-WR-CALDESC:Events for Tabernacle Church
REFRESH-INTERVAL;VALUE=DURATION:PT1H
X-Robots-Tag:noindex
X-PUBLISHED-TTL:PT1H
BEGIN:VTIMEZONE
TZID:UTC
BEGIN:STANDARD
TZOFFSETFROM:+0000
TZOFFSETTO:+0000
TZNAME:UTC
DTSTART:20200101T000000
END:STANDARD
END:VTIMEZONE
BEGIN:VTIMEZONE
TZID:America/New_York
BEGIN:DAYLIGHT
TZOFFSETFROM:-0500
TZOFFSETTO:-0400
TZNAME:EDT
DTSTART:20200308T070000
END:DAYLIGHT
BEGIN:STANDARD
TZOFFSETFROM:-0400
TZOFFSETTO:-0500
TZNAME:EST
DTSTART:20201101T060000
END:STANDARD
BEGIN:DAYLIGHT
TZOFFSETFROM:-0500
TZOFFSETTO:-0400
TZNAME:EDT
DTSTART:20210314T070000
END:DAYLIGHT
BEGIN:STANDARD
TZOFFSETFROM:-0400
TZOFFSETTO:-0500
TZNAME:EST
DTSTART:20211107T060000
END:STANDARD
BEGIN:DAYLIGHT
TZOFFSETFROM:-0500
TZOFFSETTO:-0400
TZNAME:EDT
DTSTART:20220313T070000
END:DAYLIGHT
BEGIN:STANDARD
TZOFFSETFROM:-0400
TZOFFSETTO:-0500
TZNAME:EST
DTSTART:20221106T060000
END:STANDARD
END:VTIMEZONE
BEGIN:VEVENT
DTSTART;TZID=UTC:20211103T190000
DTEND;TZID=UTC:20211103T210000
DTSTAMP:20260420T080334
CREATED:20171023T220124Z
LAST-MODIFIED:20171023T220124Z
UID:10001211-1635966000-1635973200@tabernaclechurch.org
SUMMARY:Bible Study
DESCRIPTION:
URL:https://tabernaclechurch.org/event/bible-study/2021-11-03/
END:VEVENT
BEGIN:VEVENT
DTSTART;TZID=America/New_York:20211103T200000
DTEND;TZID=America/New_York:20211103T210000
DTSTAMP:20260420T080334
CREATED:20190305T163841Z
LAST-MODIFIED:20230315T190143Z
UID:10002832-1635969600-1635973200@tabernaclechurch.org
SUMMARY:AA Meeting
DESCRIPTION:
URL:https://tabernaclechurch.org/event/aa-meeting-6/2021-11-03/
END:VEVENT
BEGIN:VEVENT
DTSTART;TZID=America/New_York:20211105T183000
DTEND;TZID=America/New_York:20211105T193000
DTSTAMP:20260420T080334
CREATED:20190305T163447Z
LAST-MODIFIED:20190305T163447Z
UID:10000779-1636137000-1636140600@tabernaclechurch.org
SUMMARY:AA Meeting
DESCRIPTION:
URL:https://tabernaclechurch.org/event/aa-meeting-5/2021-11-05/
END:VEVENT
BEGIN:VEVENT
DTSTART;TZID=America/New_York:20211107T110000
DTEND;TZID=America/New_York:20211107T113000
DTSTAMP:20260420T080334
CREATED:20190305T164635Z
LAST-MODIFIED:20251230T171724Z
UID:10003000-1636282800-1636284600@tabernaclechurch.org
SUMMARY:Fellowship Time
DESCRIPTION:
URL:https://tabernaclechurch.org/event/fellowship-time-2/2021-11-07/
END:VEVENT
BEGIN:VEVENT
DTSTART;TZID=UTC:20211110T190000
DTEND;TZID=UTC:20211110T210000
DTSTAMP:20260420T080334
CREATED:20171023T220124Z
LAST-MODIFIED:20171023T220124Z
UID:10001212-1636570800-1636578000@tabernaclechurch.org
SUMMARY:Bible Study
DESCRIPTION:
URL:https://tabernaclechurch.org/event/bible-study/2021-11-10/
END:VEVENT
BEGIN:VEVENT
DTSTART;TZID=America/New_York:20211110T200000
DTEND;TZID=America/New_York:20211110T210000
DTSTAMP:20260420T080334
CREATED:20190305T163841Z
LAST-MODIFIED:20230315T190143Z
UID:10002833-1636574400-1636578000@tabernaclechurch.org
SUMMARY:AA Meeting
DESCRIPTION:
URL:https://tabernaclechurch.org/event/aa-meeting-6/2021-11-10/
END:VEVENT
BEGIN:VEVENT
DTSTART;TZID=America/New_York:20211112T183000
DTEND;TZID=America/New_York:20211112T193000
DTSTAMP:20260420T080334
CREATED:20190305T163447Z
LAST-MODIFIED:20190305T163447Z
UID:10000780-1636741800-1636745400@tabernaclechurch.org
SUMMARY:AA Meeting
DESCRIPTION:
URL:https://tabernaclechurch.org/event/aa-meeting-5/2021-11-12/
END:VEVENT
BEGIN:VEVENT
DTSTART;TZID=America/New_York:20211114T110000
DTEND;TZID=America/New_York:20211114T113000
DTSTAMP:20260420T080334
CREATED:20190305T164635Z
LAST-MODIFIED:20251230T171724Z
UID:10003001-1636887600-1636889400@tabernaclechurch.org
SUMMARY:Fellowship Time
DESCRIPTION:
URL:https://tabernaclechurch.org/event/fellowship-time-2/2021-11-14/
END:VEVENT
BEGIN:VEVENT
DTSTART;TZID=UTC:20211117T190000
DTEND;TZID=UTC:20211117T210000
DTSTAMP:20260420T080334
CREATED:20171023T220124Z
LAST-MODIFIED:20171023T220124Z
UID:10001213-1637175600-1637182800@tabernaclechurch.org
SUMMARY:Bible Study
DESCRIPTION:
URL:https://tabernaclechurch.org/event/bible-study/2021-11-17/
END:VEVENT
BEGIN:VEVENT
DTSTART;TZID=America/New_York:20211117T200000
DTEND;TZID=America/New_York:20211117T210000
DTSTAMP:20260420T080334
CREATED:20190305T163841Z
LAST-MODIFIED:20230315T190143Z
UID:10002834-1637179200-1637182800@tabernaclechurch.org
SUMMARY:AA Meeting
DESCRIPTION:
URL:https://tabernaclechurch.org/event/aa-meeting-6/2021-11-17/
END:VEVENT
BEGIN:VEVENT
DTSTART;TZID=America/New_York:20211119T183000
DTEND;TZID=America/New_York:20211119T193000
DTSTAMP:20260420T080334
CREATED:20190305T163447Z
LAST-MODIFIED:20190305T163447Z
UID:10000781-1637346600-1637350200@tabernaclechurch.org
SUMMARY:AA Meeting
DESCRIPTION:
URL:https://tabernaclechurch.org/event/aa-meeting-5/2021-11-19/
END:VEVENT
BEGIN:VEVENT
DTSTART;TZID=America/New_York:20211121T110000
DTEND;TZID=America/New_York:20211121T113000
DTSTAMP:20260420T080334
CREATED:20190305T164635Z
LAST-MODIFIED:20251230T171724Z
UID:10003002-1637492400-1637494200@tabernaclechurch.org
SUMMARY:Fellowship Time
DESCRIPTION:
URL:https://tabernaclechurch.org/event/fellowship-time-2/2021-11-21/
END:VEVENT
BEGIN:VEVENT
DTSTART;TZID=UTC:20211124T190000
DTEND;TZID=UTC:20211124T210000
DTSTAMP:20260420T080334
CREATED:20171023T220124Z
LAST-MODIFIED:20171023T220124Z
UID:10001214-1637780400-1637787600@tabernaclechurch.org
SUMMARY:Bible Study
DESCRIPTION:
URL:https://tabernaclechurch.org/event/bible-study/2021-11-24/
END:VEVENT
BEGIN:VEVENT
DTSTART;TZID=America/New_York:20211124T200000
DTEND;TZID=America/New_York:20211124T210000
DTSTAMP:20260420T080334
CREATED:20190305T163841Z
LAST-MODIFIED:20230315T190143Z
UID:10002835-1637784000-1637787600@tabernaclechurch.org
SUMMARY:AA Meeting
DESCRIPTION:
URL:https://tabernaclechurch.org/event/aa-meeting-6/2021-11-24/
END:VEVENT
BEGIN:VEVENT
DTSTART;TZID=America/New_York:20211126T183000
DTEND;TZID=America/New_York:20211126T193000
DTSTAMP:20260420T080334
CREATED:20190305T163447Z
LAST-MODIFIED:20190305T163447Z
UID:10000782-1637951400-1637955000@tabernaclechurch.org
SUMMARY:AA Meeting
DESCRIPTION:
URL:https://tabernaclechurch.org/event/aa-meeting-5/2021-11-26/
END:VEVENT
BEGIN:VEVENT
DTSTART;TZID=America/New_York:20211128T110000
DTEND;TZID=America/New_York:20211128T113000
DTSTAMP:20260420T080334
CREATED:20190305T164635Z
LAST-MODIFIED:20251230T171724Z
UID:10003003-1638097200-1638099000@tabernaclechurch.org
SUMMARY:Fellowship Time
DESCRIPTION:
URL:https://tabernaclechurch.org/event/fellowship-time-2/2021-11-28/
END:VEVENT
END:VCALENDAR