BEGIN:VCALENDAR
VERSION:2.0
PRODID:-//Tabernacle Church - ECPv6.15.12.2//NONSGML v1.0//EN
CALSCALE:GREGORIAN
METHOD:PUBLISH
X-WR-CALNAME:Tabernacle Church
X-ORIGINAL-URL:https://tabernaclechurch.org
X-WR-CALDESC:Events for Tabernacle Church
REFRESH-INTERVAL;VALUE=DURATION:PT1H
X-Robots-Tag:noindex
X-PUBLISHED-TTL:PT1H
BEGIN:VTIMEZONE
TZID:UTC
BEGIN:STANDARD
TZOFFSETFROM:+0000
TZOFFSETTO:+0000
TZNAME:UTC
DTSTART:20210101T000000
END:STANDARD
END:VTIMEZONE
BEGIN:VTIMEZONE
TZID:America/New_York
BEGIN:DAYLIGHT
TZOFFSETFROM:-0500
TZOFFSETTO:-0400
TZNAME:EDT
DTSTART:20210314T070000
END:DAYLIGHT
BEGIN:STANDARD
TZOFFSETFROM:-0400
TZOFFSETTO:-0500
TZNAME:EST
DTSTART:20211107T060000
END:STANDARD
BEGIN:DAYLIGHT
TZOFFSETFROM:-0500
TZOFFSETTO:-0400
TZNAME:EDT
DTSTART:20220313T070000
END:DAYLIGHT
BEGIN:STANDARD
TZOFFSETFROM:-0400
TZOFFSETTO:-0500
TZNAME:EST
DTSTART:20221106T060000
END:STANDARD
BEGIN:DAYLIGHT
TZOFFSETFROM:-0500
TZOFFSETTO:-0400
TZNAME:EDT
DTSTART:20230312T070000
END:DAYLIGHT
BEGIN:STANDARD
TZOFFSETFROM:-0400
TZOFFSETTO:-0500
TZNAME:EST
DTSTART:20231105T060000
END:STANDARD
END:VTIMEZONE
BEGIN:VEVENT
DTSTART;TZID=UTC:20220202T190000
DTEND;TZID=UTC:20220202T210000
DTSTAMP:20260423T090037
CREATED:20171023T220124Z
LAST-MODIFIED:20171023T220124Z
UID:10001224-1643828400-1643835600@tabernaclechurch.org
SUMMARY:Bible Study
DESCRIPTION:
URL:https://tabernaclechurch.org/event/bible-study/2022-02-02/
END:VEVENT
BEGIN:VEVENT
DTSTART;TZID=America/New_York:20220202T200000
DTEND;TZID=America/New_York:20220202T210000
DTSTAMP:20260423T090037
CREATED:20190305T163841Z
LAST-MODIFIED:20230315T190143Z
UID:10002845-1643832000-1643835600@tabernaclechurch.org
SUMMARY:AA Meeting
DESCRIPTION:
URL:https://tabernaclechurch.org/event/aa-meeting-6/2022-02-02/
END:VEVENT
BEGIN:VEVENT
DTSTART;TZID=America/New_York:20220204T183000
DTEND;TZID=America/New_York:20220204T193000
DTSTAMP:20260423T090037
CREATED:20190305T163447Z
LAST-MODIFIED:20190305T163447Z
UID:10000792-1643999400-1644003000@tabernaclechurch.org
SUMMARY:AA Meeting
DESCRIPTION:
URL:https://tabernaclechurch.org/event/aa-meeting-5/2022-02-04/
END:VEVENT
BEGIN:VEVENT
DTSTART;TZID=America/New_York:20220206T100000
DTEND;TZID=America/New_York:20220206T120000
DTSTAMP:20260423T090037
CREATED:20211225T185251Z
LAST-MODIFIED:20211225T185624Z
UID:10003704-1644141600-1644148800@tabernaclechurch.org
SUMMARY:Sunday Worship and Fellowship Time via Zoom
DESCRIPTION:
URL:https://tabernaclechurch.org/event/7487/2022-02-06/
END:VEVENT
BEGIN:VEVENT
DTSTART;TZID=America/New_York:20220206T110000
DTEND;TZID=America/New_York:20220206T113000
DTSTAMP:20260423T090037
CREATED:20190305T164635Z
LAST-MODIFIED:20251230T171724Z
UID:10003012-1644145200-1644147000@tabernaclechurch.org
SUMMARY:Fellowship Time
DESCRIPTION:
URL:https://tabernaclechurch.org/event/fellowship-time-2/2022-02-06/
END:VEVENT
BEGIN:VEVENT
DTSTART;TZID=UTC:20220209T190000
DTEND;TZID=UTC:20220209T210000
DTSTAMP:20260423T090037
CREATED:20171023T220124Z
LAST-MODIFIED:20171023T220124Z
UID:10001225-1644433200-1644440400@tabernaclechurch.org
SUMMARY:Bible Study
DESCRIPTION:
URL:https://tabernaclechurch.org/event/bible-study/2022-02-09/
END:VEVENT
BEGIN:VEVENT
DTSTART;TZID=America/New_York:20220209T200000
DTEND;TZID=America/New_York:20220209T210000
DTSTAMP:20260423T090037
CREATED:20190305T163841Z
LAST-MODIFIED:20230315T190143Z
UID:10002846-1644436800-1644440400@tabernaclechurch.org
SUMMARY:AA Meeting
DESCRIPTION:
URL:https://tabernaclechurch.org/event/aa-meeting-6/2022-02-09/
END:VEVENT
BEGIN:VEVENT
DTSTART;TZID=America/New_York:20220211T183000
DTEND;TZID=America/New_York:20220211T193000
DTSTAMP:20260423T090037
CREATED:20190305T163447Z
LAST-MODIFIED:20190305T163447Z
UID:10000793-1644604200-1644607800@tabernaclechurch.org
SUMMARY:AA Meeting
DESCRIPTION:
URL:https://tabernaclechurch.org/event/aa-meeting-5/2022-02-11/
END:VEVENT
BEGIN:VEVENT
DTSTART;TZID=America/New_York:20220213T100000
DTEND;TZID=America/New_York:20220213T120000
DTSTAMP:20260423T090037
CREATED:20211225T185251Z
LAST-MODIFIED:20211225T185624Z
UID:10003705-1644746400-1644753600@tabernaclechurch.org
SUMMARY:Sunday Worship and Fellowship Time via Zoom
DESCRIPTION:
URL:https://tabernaclechurch.org/event/7487/2022-02-13/
END:VEVENT
BEGIN:VEVENT
DTSTART;TZID=America/New_York:20220213T110000
DTEND;TZID=America/New_York:20220213T113000
DTSTAMP:20260423T090037
CREATED:20190305T164635Z
LAST-MODIFIED:20251230T171724Z
UID:10003013-1644750000-1644751800@tabernaclechurch.org
SUMMARY:Fellowship Time
DESCRIPTION:
URL:https://tabernaclechurch.org/event/fellowship-time-2/2022-02-13/
END:VEVENT
BEGIN:VEVENT
DTSTART;TZID=UTC:20220216T190000
DTEND;TZID=UTC:20220216T210000
DTSTAMP:20260423T090037
CREATED:20171023T220124Z
LAST-MODIFIED:20171023T220124Z
UID:10001226-1645038000-1645045200@tabernaclechurch.org
SUMMARY:Bible Study
DESCRIPTION:
URL:https://tabernaclechurch.org/event/bible-study/2022-02-16/
END:VEVENT
BEGIN:VEVENT
DTSTART;TZID=America/New_York:20220216T200000
DTEND;TZID=America/New_York:20220216T210000
DTSTAMP:20260423T090037
CREATED:20190305T163841Z
LAST-MODIFIED:20230315T190143Z
UID:10002847-1645041600-1645045200@tabernaclechurch.org
SUMMARY:AA Meeting
DESCRIPTION:
URL:https://tabernaclechurch.org/event/aa-meeting-6/2022-02-16/
END:VEVENT
BEGIN:VEVENT
DTSTART;TZID=America/New_York:20220218T183000
DTEND;TZID=America/New_York:20220218T193000
DTSTAMP:20260423T090037
CREATED:20190305T163447Z
LAST-MODIFIED:20190305T163447Z
UID:10000794-1645209000-1645212600@tabernaclechurch.org
SUMMARY:AA Meeting
DESCRIPTION:
URL:https://tabernaclechurch.org/event/aa-meeting-5/2022-02-18/
END:VEVENT
BEGIN:VEVENT
DTSTART;TZID=America/New_York:20220220T100000
DTEND;TZID=America/New_York:20220220T120000
DTSTAMP:20260423T090037
CREATED:20211225T185251Z
LAST-MODIFIED:20211225T185624Z
UID:10003706-1645351200-1645358400@tabernaclechurch.org
SUMMARY:Sunday Worship and Fellowship Time via Zoom
DESCRIPTION:
URL:https://tabernaclechurch.org/event/7487/2022-02-20/
END:VEVENT
BEGIN:VEVENT
DTSTART;TZID=America/New_York:20220220T110000
DTEND;TZID=America/New_York:20220220T113000
DTSTAMP:20260423T090037
CREATED:20190305T164635Z
LAST-MODIFIED:20251230T171724Z
UID:10003014-1645354800-1645356600@tabernaclechurch.org
SUMMARY:Fellowship Time
DESCRIPTION:
URL:https://tabernaclechurch.org/event/fellowship-time-2/2022-02-20/
END:VEVENT
BEGIN:VEVENT
DTSTART;TZID=UTC:20220223T190000
DTEND;TZID=UTC:20220223T210000
DTSTAMP:20260423T090037
CREATED:20171023T220124Z
LAST-MODIFIED:20171023T220124Z
UID:10001227-1645642800-1645650000@tabernaclechurch.org
SUMMARY:Bible Study
DESCRIPTION:
URL:https://tabernaclechurch.org/event/bible-study/2022-02-23/
END:VEVENT
BEGIN:VEVENT
DTSTART;TZID=America/New_York:20220223T200000
DTEND;TZID=America/New_York:20220223T210000
DTSTAMP:20260423T090037
CREATED:20190305T163841Z
LAST-MODIFIED:20230315T190143Z
UID:10002848-1645646400-1645650000@tabernaclechurch.org
SUMMARY:AA Meeting
DESCRIPTION:
URL:https://tabernaclechurch.org/event/aa-meeting-6/2022-02-23/
END:VEVENT
BEGIN:VEVENT
DTSTART;TZID=America/New_York:20220225T183000
DTEND;TZID=America/New_York:20220225T193000
DTSTAMP:20260423T090037
CREATED:20190305T163447Z
LAST-MODIFIED:20190305T163447Z
UID:10000795-1645813800-1645817400@tabernaclechurch.org
SUMMARY:AA Meeting
DESCRIPTION:
URL:https://tabernaclechurch.org/event/aa-meeting-5/2022-02-25/
END:VEVENT
BEGIN:VEVENT
DTSTART;TZID=America/New_York:20220227T100000
DTEND;TZID=America/New_York:20220227T120000
DTSTAMP:20260423T090037
CREATED:20211225T185251Z
LAST-MODIFIED:20211225T185624Z
UID:10003707-1645956000-1645963200@tabernaclechurch.org
SUMMARY:Sunday Worship and Fellowship Time via Zoom
DESCRIPTION:
URL:https://tabernaclechurch.org/event/7487/2022-02-27/
END:VEVENT
BEGIN:VEVENT
DTSTART;TZID=America/New_York:20220227T110000
DTEND;TZID=America/New_York:20220227T113000
DTSTAMP:20260423T090037
CREATED:20190305T164635Z
LAST-MODIFIED:20251230T171724Z
UID:10003015-1645959600-1645961400@tabernaclechurch.org
SUMMARY:Fellowship Time
DESCRIPTION:
URL:https://tabernaclechurch.org/event/fellowship-time-2/2022-02-27/
END:VEVENT
END:VCALENDAR