BEGIN:VCALENDAR
VERSION:2.0
PRODID:-//Tabernacle Church - ECPv6.15.12.2//NONSGML v1.0//EN
CALSCALE:GREGORIAN
METHOD:PUBLISH
X-ORIGINAL-URL:https://tabernaclechurch.org
X-WR-CALDESC:Events for Tabernacle Church
REFRESH-INTERVAL;VALUE=DURATION:PT1H
X-Robots-Tag:noindex
X-PUBLISHED-TTL:PT1H
BEGIN:VTIMEZONE
TZID:UTC
BEGIN:STANDARD
TZOFFSETFROM:+0000
TZOFFSETTO:+0000
TZNAME:UTC
DTSTART:20210101T000000
END:STANDARD
END:VTIMEZONE
BEGIN:VTIMEZONE
TZID:America/New_York
BEGIN:DAYLIGHT
TZOFFSETFROM:-0500
TZOFFSETTO:-0400
TZNAME:EDT
DTSTART:20210314T070000
END:DAYLIGHT
BEGIN:STANDARD
TZOFFSETFROM:-0400
TZOFFSETTO:-0500
TZNAME:EST
DTSTART:20211107T060000
END:STANDARD
BEGIN:DAYLIGHT
TZOFFSETFROM:-0500
TZOFFSETTO:-0400
TZNAME:EDT
DTSTART:20220313T070000
END:DAYLIGHT
BEGIN:STANDARD
TZOFFSETFROM:-0400
TZOFFSETTO:-0500
TZNAME:EST
DTSTART:20221106T060000
END:STANDARD
BEGIN:DAYLIGHT
TZOFFSETFROM:-0500
TZOFFSETTO:-0400
TZNAME:EDT
DTSTART:20230312T070000
END:DAYLIGHT
BEGIN:STANDARD
TZOFFSETFROM:-0400
TZOFFSETTO:-0500
TZNAME:EST
DTSTART:20231105T060000
END:STANDARD
END:VTIMEZONE
BEGIN:VEVENT
DTSTART;TZID=UTC:20220302T190000
DTEND;TZID=UTC:20220302T210000
DTSTAMP:20260423T065615
CREATED:20171023T220124Z
LAST-MODIFIED:20171023T220124Z
UID:10001228-1646247600-1646254800@tabernaclechurch.org
SUMMARY:Bible Study
DESCRIPTION:
URL:https://tabernaclechurch.org/event/bible-study/2022-03-02/
END:VEVENT
BEGIN:VEVENT
DTSTART;TZID=America/New_York:20220302T200000
DTEND;TZID=America/New_York:20220302T210000
DTSTAMP:20260423T065615
CREATED:20190305T163841Z
LAST-MODIFIED:20230315T190143Z
UID:10002849-1646251200-1646254800@tabernaclechurch.org
SUMMARY:AA Meeting
DESCRIPTION:
URL:https://tabernaclechurch.org/event/aa-meeting-6/2022-03-02/
END:VEVENT
BEGIN:VEVENT
DTSTART;TZID=America/New_York:20220304T183000
DTEND;TZID=America/New_York:20220304T193000
DTSTAMP:20260423T065615
CREATED:20190305T163447Z
LAST-MODIFIED:20190305T163447Z
UID:10000796-1646418600-1646422200@tabernaclechurch.org
SUMMARY:AA Meeting
DESCRIPTION:
URL:https://tabernaclechurch.org/event/aa-meeting-5/2022-03-04/
END:VEVENT
BEGIN:VEVENT
DTSTART;TZID=America/New_York:20220306T110000
DTEND;TZID=America/New_York:20220306T113000
DTSTAMP:20260423T065615
CREATED:20190305T164635Z
LAST-MODIFIED:20251230T171724Z
UID:10003016-1646564400-1646566200@tabernaclechurch.org
SUMMARY:Fellowship Time
DESCRIPTION:
URL:https://tabernaclechurch.org/event/fellowship-time-2/2022-03-06/
END:VEVENT
BEGIN:VEVENT
DTSTART;TZID=UTC:20220309T190000
DTEND;TZID=UTC:20220309T210000
DTSTAMP:20260423T065615
CREATED:20171023T220124Z
LAST-MODIFIED:20171023T220124Z
UID:10001229-1646852400-1646859600@tabernaclechurch.org
SUMMARY:Bible Study
DESCRIPTION:
URL:https://tabernaclechurch.org/event/bible-study/2022-03-09/
END:VEVENT
BEGIN:VEVENT
DTSTART;TZID=America/New_York:20220309T200000
DTEND;TZID=America/New_York:20220309T210000
DTSTAMP:20260423T065615
CREATED:20190305T163841Z
LAST-MODIFIED:20230315T190143Z
UID:10002850-1646856000-1646859600@tabernaclechurch.org
SUMMARY:AA Meeting
DESCRIPTION:
URL:https://tabernaclechurch.org/event/aa-meeting-6/2022-03-09/
END:VEVENT
BEGIN:VEVENT
DTSTART;TZID=America/New_York:20220311T183000
DTEND;TZID=America/New_York:20220311T193000
DTSTAMP:20260423T065615
CREATED:20190305T163447Z
LAST-MODIFIED:20190305T163447Z
UID:10000797-1647023400-1647027000@tabernaclechurch.org
SUMMARY:AA Meeting
DESCRIPTION:
URL:https://tabernaclechurch.org/event/aa-meeting-5/2022-03-11/
END:VEVENT
BEGIN:VEVENT
DTSTART;TZID=America/New_York:20220313T110000
DTEND;TZID=America/New_York:20220313T113000
DTSTAMP:20260423T065615
CREATED:20190305T164635Z
LAST-MODIFIED:20251230T171724Z
UID:10003017-1647169200-1647171000@tabernaclechurch.org
SUMMARY:Fellowship Time
DESCRIPTION:
URL:https://tabernaclechurch.org/event/fellowship-time-2/2022-03-13/
END:VEVENT
BEGIN:VEVENT
DTSTART;TZID=UTC:20220316T190000
DTEND;TZID=UTC:20220316T210000
DTSTAMP:20260423T065615
CREATED:20171023T220124Z
LAST-MODIFIED:20171023T220124Z
UID:10001230-1647457200-1647464400@tabernaclechurch.org
SUMMARY:Bible Study
DESCRIPTION:
URL:https://tabernaclechurch.org/event/bible-study/2022-03-16/
END:VEVENT
BEGIN:VEVENT
DTSTART;TZID=America/New_York:20220316T200000
DTEND;TZID=America/New_York:20220316T210000
DTSTAMP:20260423T065615
CREATED:20190305T163841Z
LAST-MODIFIED:20230315T190143Z
UID:10002851-1647460800-1647464400@tabernaclechurch.org
SUMMARY:AA Meeting
DESCRIPTION:
URL:https://tabernaclechurch.org/event/aa-meeting-6/2022-03-16/
END:VEVENT
BEGIN:VEVENT
DTSTART;TZID=America/New_York:20220318T183000
DTEND;TZID=America/New_York:20220318T193000
DTSTAMP:20260423T065615
CREATED:20190305T163447Z
LAST-MODIFIED:20190305T163447Z
UID:10000798-1647628200-1647631800@tabernaclechurch.org
SUMMARY:AA Meeting
DESCRIPTION:
URL:https://tabernaclechurch.org/event/aa-meeting-5/2022-03-18/
END:VEVENT
BEGIN:VEVENT
DTSTART;TZID=America/New_York:20220320T110000
DTEND;TZID=America/New_York:20220320T113000
DTSTAMP:20260423T065615
CREATED:20190305T164635Z
LAST-MODIFIED:20251230T171724Z
UID:10003018-1647774000-1647775800@tabernaclechurch.org
SUMMARY:Fellowship Time
DESCRIPTION:
URL:https://tabernaclechurch.org/event/fellowship-time-2/2022-03-20/
END:VEVENT
BEGIN:VEVENT
DTSTART;TZID=UTC:20220323T190000
DTEND;TZID=UTC:20220323T210000
DTSTAMP:20260423T065615
CREATED:20171023T220124Z
LAST-MODIFIED:20171023T220124Z
UID:10001231-1648062000-1648069200@tabernaclechurch.org
SUMMARY:Bible Study
DESCRIPTION:
URL:https://tabernaclechurch.org/event/bible-study/2022-03-23/
END:VEVENT
BEGIN:VEVENT
DTSTART;TZID=America/New_York:20220323T200000
DTEND;TZID=America/New_York:20220323T210000
DTSTAMP:20260423T065615
CREATED:20190305T163841Z
LAST-MODIFIED:20230315T190143Z
UID:10002852-1648065600-1648069200@tabernaclechurch.org
SUMMARY:AA Meeting
DESCRIPTION:
URL:https://tabernaclechurch.org/event/aa-meeting-6/2022-03-23/
END:VEVENT
BEGIN:VEVENT
DTSTART;TZID=America/New_York:20220325T183000
DTEND;TZID=America/New_York:20220325T193000
DTSTAMP:20260423T065615
CREATED:20190305T163447Z
LAST-MODIFIED:20190305T163447Z
UID:10000799-1648233000-1648236600@tabernaclechurch.org
SUMMARY:AA Meeting
DESCRIPTION:
URL:https://tabernaclechurch.org/event/aa-meeting-5/2022-03-25/
END:VEVENT
BEGIN:VEVENT
DTSTART;TZID=America/New_York:20220327T110000
DTEND;TZID=America/New_York:20220327T113000
DTSTAMP:20260423T065615
CREATED:20190305T164635Z
LAST-MODIFIED:20251230T171724Z
UID:10003019-1648378800-1648380600@tabernaclechurch.org
SUMMARY:Fellowship Time
DESCRIPTION:
URL:https://tabernaclechurch.org/event/fellowship-time-2/2022-03-27/
END:VEVENT
BEGIN:VEVENT
DTSTART;TZID=UTC:20220330T190000
DTEND;TZID=UTC:20220330T210000
DTSTAMP:20260423T065615
CREATED:20171023T220124Z
LAST-MODIFIED:20171023T220124Z
UID:10001232-1648666800-1648674000@tabernaclechurch.org
SUMMARY:Bible Study
DESCRIPTION:
URL:https://tabernaclechurch.org/event/bible-study/2022-03-30/
END:VEVENT
BEGIN:VEVENT
DTSTART;TZID=America/New_York:20220330T200000
DTEND;TZID=America/New_York:20220330T210000
DTSTAMP:20260423T065615
CREATED:20190305T163841Z
LAST-MODIFIED:20230315T190143Z
UID:10002853-1648670400-1648674000@tabernaclechurch.org
SUMMARY:AA Meeting
DESCRIPTION:
URL:https://tabernaclechurch.org/event/aa-meeting-6/2022-03-30/
END:VEVENT
END:VCALENDAR