BEGIN:VCALENDAR
VERSION:2.0
PRODID:-//Tabernacle Church - ECPv6.15.12.2//NONSGML v1.0//EN
CALSCALE:GREGORIAN
METHOD:PUBLISH
X-WR-CALNAME:Tabernacle Church
X-ORIGINAL-URL:https://tabernaclechurch.org
X-WR-CALDESC:Events for Tabernacle Church
REFRESH-INTERVAL;VALUE=DURATION:PT1H
X-Robots-Tag:noindex
X-PUBLISHED-TTL:PT1H
BEGIN:VTIMEZONE
TZID:America/New_York
BEGIN:DAYLIGHT
TZOFFSETFROM:-0500
TZOFFSETTO:-0400
TZNAME:EDT
DTSTART:20210314T070000
END:DAYLIGHT
BEGIN:STANDARD
TZOFFSETFROM:-0400
TZOFFSETTO:-0500
TZNAME:EST
DTSTART:20211107T060000
END:STANDARD
BEGIN:DAYLIGHT
TZOFFSETFROM:-0500
TZOFFSETTO:-0400
TZNAME:EDT
DTSTART:20220313T070000
END:DAYLIGHT
BEGIN:STANDARD
TZOFFSETFROM:-0400
TZOFFSETTO:-0500
TZNAME:EST
DTSTART:20221106T060000
END:STANDARD
BEGIN:DAYLIGHT
TZOFFSETFROM:-0500
TZOFFSETTO:-0400
TZNAME:EDT
DTSTART:20230312T070000
END:DAYLIGHT
BEGIN:STANDARD
TZOFFSETFROM:-0400
TZOFFSETTO:-0500
TZNAME:EST
DTSTART:20231105T060000
END:STANDARD
END:VTIMEZONE
BEGIN:VTIMEZONE
TZID:UTC
BEGIN:STANDARD
TZOFFSETFROM:+0000
TZOFFSETTO:+0000
TZNAME:UTC
DTSTART:20210101T000000
END:STANDARD
END:VTIMEZONE
BEGIN:VEVENT
DTSTART;TZID=America/New_York:20220401T183000
DTEND;TZID=America/New_York:20220401T193000
DTSTAMP:20260423T050404
CREATED:20190305T163447Z
LAST-MODIFIED:20190305T163447Z
UID:10000800-1648837800-1648841400@tabernaclechurch.org
SUMMARY:AA Meeting
DESCRIPTION:
URL:https://tabernaclechurch.org/event/aa-meeting-5/2022-04-01/
END:VEVENT
BEGIN:VEVENT
DTSTART;TZID=America/New_York:20220403T110000
DTEND;TZID=America/New_York:20220403T113000
DTSTAMP:20260423T050404
CREATED:20190305T164635Z
LAST-MODIFIED:20251230T171724Z
UID:10003020-1648983600-1648985400@tabernaclechurch.org
SUMMARY:Fellowship Time
DESCRIPTION:
URL:https://tabernaclechurch.org/event/fellowship-time-2/2022-04-03/
END:VEVENT
BEGIN:VEVENT
DTSTART;TZID=UTC:20220406T190000
DTEND;TZID=UTC:20220406T210000
DTSTAMP:20260423T050404
CREATED:20171023T220124Z
LAST-MODIFIED:20171023T220124Z
UID:10001233-1649271600-1649278800@tabernaclechurch.org
SUMMARY:Bible Study
DESCRIPTION:
URL:https://tabernaclechurch.org/event/bible-study/2022-04-06/
END:VEVENT
BEGIN:VEVENT
DTSTART;TZID=America/New_York:20220406T200000
DTEND;TZID=America/New_York:20220406T210000
DTSTAMP:20260423T050404
CREATED:20190305T163841Z
LAST-MODIFIED:20230315T190143Z
UID:10002854-1649275200-1649278800@tabernaclechurch.org
SUMMARY:AA Meeting
DESCRIPTION:
URL:https://tabernaclechurch.org/event/aa-meeting-6/2022-04-06/
END:VEVENT
BEGIN:VEVENT
DTSTART;TZID=America/New_York:20220408T183000
DTEND;TZID=America/New_York:20220408T193000
DTSTAMP:20260423T050404
CREATED:20190305T163447Z
LAST-MODIFIED:20190305T163447Z
UID:10000801-1649442600-1649446200@tabernaclechurch.org
SUMMARY:AA Meeting
DESCRIPTION:
URL:https://tabernaclechurch.org/event/aa-meeting-5/2022-04-08/
END:VEVENT
BEGIN:VEVENT
DTSTART;TZID=America/New_York:20220410T110000
DTEND;TZID=America/New_York:20220410T113000
DTSTAMP:20260423T050404
CREATED:20190305T164635Z
LAST-MODIFIED:20251230T171724Z
UID:10003021-1649588400-1649590200@tabernaclechurch.org
SUMMARY:Fellowship Time
DESCRIPTION:
URL:https://tabernaclechurch.org/event/fellowship-time-2/2022-04-10/
END:VEVENT
BEGIN:VEVENT
DTSTART;TZID=UTC:20220413T190000
DTEND;TZID=UTC:20220413T210000
DTSTAMP:20260423T050404
CREATED:20171023T220124Z
LAST-MODIFIED:20171023T220124Z
UID:10001234-1649876400-1649883600@tabernaclechurch.org
SUMMARY:Bible Study
DESCRIPTION:
URL:https://tabernaclechurch.org/event/bible-study/2022-04-13/
END:VEVENT
BEGIN:VEVENT
DTSTART;TZID=America/New_York:20220413T200000
DTEND;TZID=America/New_York:20220413T210000
DTSTAMP:20260423T050404
CREATED:20190305T163841Z
LAST-MODIFIED:20230315T190143Z
UID:10002855-1649880000-1649883600@tabernaclechurch.org
SUMMARY:AA Meeting
DESCRIPTION:
URL:https://tabernaclechurch.org/event/aa-meeting-6/2022-04-13/
END:VEVENT
BEGIN:VEVENT
DTSTART;TZID=America/New_York:20220415T183000
DTEND;TZID=America/New_York:20220415T193000
DTSTAMP:20260423T050404
CREATED:20190305T163447Z
LAST-MODIFIED:20190305T163447Z
UID:10000802-1650047400-1650051000@tabernaclechurch.org
SUMMARY:AA Meeting
DESCRIPTION:
URL:https://tabernaclechurch.org/event/aa-meeting-5/2022-04-15/
END:VEVENT
BEGIN:VEVENT
DTSTART;TZID=America/New_York:20220417T110000
DTEND;TZID=America/New_York:20220417T113000
DTSTAMP:20260423T050404
CREATED:20190305T164635Z
LAST-MODIFIED:20251230T171724Z
UID:10003022-1650193200-1650195000@tabernaclechurch.org
SUMMARY:Fellowship Time
DESCRIPTION:
URL:https://tabernaclechurch.org/event/fellowship-time-2/2022-04-17/
END:VEVENT
BEGIN:VEVENT
DTSTART;TZID=UTC:20220420T190000
DTEND;TZID=UTC:20220420T210000
DTSTAMP:20260423T050404
CREATED:20171023T220124Z
LAST-MODIFIED:20171023T220124Z
UID:10001235-1650481200-1650488400@tabernaclechurch.org
SUMMARY:Bible Study
DESCRIPTION:
URL:https://tabernaclechurch.org/event/bible-study/2022-04-20/
END:VEVENT
BEGIN:VEVENT
DTSTART;TZID=America/New_York:20220420T200000
DTEND;TZID=America/New_York:20220420T210000
DTSTAMP:20260423T050404
CREATED:20190305T163841Z
LAST-MODIFIED:20230315T190143Z
UID:10002856-1650484800-1650488400@tabernaclechurch.org
SUMMARY:AA Meeting
DESCRIPTION:
URL:https://tabernaclechurch.org/event/aa-meeting-6/2022-04-20/
END:VEVENT
BEGIN:VEVENT
DTSTART;TZID=America/New_York:20220422T183000
DTEND;TZID=America/New_York:20220422T193000
DTSTAMP:20260423T050404
CREATED:20190305T163447Z
LAST-MODIFIED:20190305T163447Z
UID:10000803-1650652200-1650655800@tabernaclechurch.org
SUMMARY:AA Meeting
DESCRIPTION:
URL:https://tabernaclechurch.org/event/aa-meeting-5/2022-04-22/
END:VEVENT
BEGIN:VEVENT
DTSTART;TZID=America/New_York:20220424T110000
DTEND;TZID=America/New_York:20220424T113000
DTSTAMP:20260423T050404
CREATED:20190305T164635Z
LAST-MODIFIED:20251230T171724Z
UID:10003023-1650798000-1650799800@tabernaclechurch.org
SUMMARY:Fellowship Time
DESCRIPTION:
URL:https://tabernaclechurch.org/event/fellowship-time-2/2022-04-24/
END:VEVENT
BEGIN:VEVENT
DTSTART;TZID=UTC:20220427T190000
DTEND;TZID=UTC:20220427T210000
DTSTAMP:20260423T050404
CREATED:20171023T220124Z
LAST-MODIFIED:20171023T220124Z
UID:10001236-1651086000-1651093200@tabernaclechurch.org
SUMMARY:Bible Study
DESCRIPTION:
URL:https://tabernaclechurch.org/event/bible-study/2022-04-27/
END:VEVENT
BEGIN:VEVENT
DTSTART;TZID=America/New_York:20220427T200000
DTEND;TZID=America/New_York:20220427T210000
DTSTAMP:20260423T050404
CREATED:20190305T163841Z
LAST-MODIFIED:20230315T190143Z
UID:10002857-1651089600-1651093200@tabernaclechurch.org
SUMMARY:AA Meeting
DESCRIPTION:
URL:https://tabernaclechurch.org/event/aa-meeting-6/2022-04-27/
END:VEVENT
BEGIN:VEVENT
DTSTART;TZID=America/New_York:20220429T183000
DTEND;TZID=America/New_York:20220429T193000
DTSTAMP:20260423T050404
CREATED:20190305T163447Z
LAST-MODIFIED:20190305T163447Z
UID:10000804-1651257000-1651260600@tabernaclechurch.org
SUMMARY:AA Meeting
DESCRIPTION:
URL:https://tabernaclechurch.org/event/aa-meeting-5/2022-04-29/
END:VEVENT
END:VCALENDAR