BEGIN:VCALENDAR
VERSION:2.0
PRODID:-//Tabernacle Church - ECPv6.15.12.2//NONSGML v1.0//EN
CALSCALE:GREGORIAN
METHOD:PUBLISH
X-WR-CALNAME:Tabernacle Church
X-ORIGINAL-URL:https://tabernaclechurch.org
X-WR-CALDESC:Events for Tabernacle Church
REFRESH-INTERVAL;VALUE=DURATION:PT1H
X-Robots-Tag:noindex
X-PUBLISHED-TTL:PT1H
BEGIN:VTIMEZONE
TZID:UTC
BEGIN:STANDARD
TZOFFSETFROM:+0000
TZOFFSETTO:+0000
TZNAME:UTC
DTSTART:20210101T000000
END:STANDARD
END:VTIMEZONE
BEGIN:VTIMEZONE
TZID:America/New_York
BEGIN:DAYLIGHT
TZOFFSETFROM:-0500
TZOFFSETTO:-0400
TZNAME:EDT
DTSTART:20210314T070000
END:DAYLIGHT
BEGIN:STANDARD
TZOFFSETFROM:-0400
TZOFFSETTO:-0500
TZNAME:EST
DTSTART:20211107T060000
END:STANDARD
BEGIN:DAYLIGHT
TZOFFSETFROM:-0500
TZOFFSETTO:-0400
TZNAME:EDT
DTSTART:20220313T070000
END:DAYLIGHT
BEGIN:STANDARD
TZOFFSETFROM:-0400
TZOFFSETTO:-0500
TZNAME:EST
DTSTART:20221106T060000
END:STANDARD
BEGIN:DAYLIGHT
TZOFFSETFROM:-0500
TZOFFSETTO:-0400
TZNAME:EDT
DTSTART:20230312T070000
END:DAYLIGHT
BEGIN:STANDARD
TZOFFSETFROM:-0400
TZOFFSETTO:-0500
TZNAME:EST
DTSTART:20231105T060000
END:STANDARD
END:VTIMEZONE
BEGIN:VEVENT
DTSTART;TZID=UTC:20220803T190000
DTEND;TZID=UTC:20220803T210000
DTSTAMP:20260422T205522
CREATED:20171023T220124Z
LAST-MODIFIED:20171023T220124Z
UID:10001250-1659553200-1659560400@tabernaclechurch.org
SUMMARY:Bible Study
DESCRIPTION:
URL:https://tabernaclechurch.org/event/bible-study/2022-08-03/
END:VEVENT
BEGIN:VEVENT
DTSTART;TZID=America/New_York:20220803T200000
DTEND;TZID=America/New_York:20220803T210000
DTSTAMP:20260422T205522
CREATED:20190305T163841Z
LAST-MODIFIED:20230315T190143Z
UID:10002871-1659556800-1659560400@tabernaclechurch.org
SUMMARY:AA Meeting
DESCRIPTION:
URL:https://tabernaclechurch.org/event/aa-meeting-6/2022-08-03/
END:VEVENT
BEGIN:VEVENT
DTSTART;TZID=America/New_York:20220805T183000
DTEND;TZID=America/New_York:20220805T193000
DTSTAMP:20260422T205522
CREATED:20190305T163447Z
LAST-MODIFIED:20190305T163447Z
UID:10000818-1659724200-1659727800@tabernaclechurch.org
SUMMARY:AA Meeting
DESCRIPTION:
URL:https://tabernaclechurch.org/event/aa-meeting-5/2022-08-05/
END:VEVENT
BEGIN:VEVENT
DTSTART;TZID=America/New_York:20220807T110000
DTEND;TZID=America/New_York:20220807T113000
DTSTAMP:20260422T205522
CREATED:20190305T164635Z
LAST-MODIFIED:20251230T171724Z
UID:10003038-1659870000-1659871800@tabernaclechurch.org
SUMMARY:Fellowship Time
DESCRIPTION:
URL:https://tabernaclechurch.org/event/fellowship-time-2/2022-08-07/
END:VEVENT
BEGIN:VEVENT
DTSTART;TZID=UTC:20220810T190000
DTEND;TZID=UTC:20220810T210000
DTSTAMP:20260422T205522
CREATED:20171023T220124Z
LAST-MODIFIED:20171023T220124Z
UID:10001251-1660158000-1660165200@tabernaclechurch.org
SUMMARY:Bible Study
DESCRIPTION:
URL:https://tabernaclechurch.org/event/bible-study/2022-08-10/
END:VEVENT
BEGIN:VEVENT
DTSTART;TZID=America/New_York:20220810T200000
DTEND;TZID=America/New_York:20220810T210000
DTSTAMP:20260422T205522
CREATED:20190305T163841Z
LAST-MODIFIED:20230315T190143Z
UID:10002872-1660161600-1660165200@tabernaclechurch.org
SUMMARY:AA Meeting
DESCRIPTION:
URL:https://tabernaclechurch.org/event/aa-meeting-6/2022-08-10/
END:VEVENT
BEGIN:VEVENT
DTSTART;TZID=America/New_York:20220812T183000
DTEND;TZID=America/New_York:20220812T193000
DTSTAMP:20260422T205522
CREATED:20190305T163447Z
LAST-MODIFIED:20190305T163447Z
UID:10000819-1660329000-1660332600@tabernaclechurch.org
SUMMARY:AA Meeting
DESCRIPTION:
URL:https://tabernaclechurch.org/event/aa-meeting-5/2022-08-12/
END:VEVENT
BEGIN:VEVENT
DTSTART;TZID=America/New_York:20220814T110000
DTEND;TZID=America/New_York:20220814T113000
DTSTAMP:20260422T205522
CREATED:20190305T164635Z
LAST-MODIFIED:20251230T171724Z
UID:10003039-1660474800-1660476600@tabernaclechurch.org
SUMMARY:Fellowship Time
DESCRIPTION:
URL:https://tabernaclechurch.org/event/fellowship-time-2/2022-08-14/
END:VEVENT
BEGIN:VEVENT
DTSTART;TZID=UTC:20220817T190000
DTEND;TZID=UTC:20220817T210000
DTSTAMP:20260422T205522
CREATED:20171023T220124Z
LAST-MODIFIED:20171023T220124Z
UID:10001252-1660762800-1660770000@tabernaclechurch.org
SUMMARY:Bible Study
DESCRIPTION:
URL:https://tabernaclechurch.org/event/bible-study/2022-08-17/
END:VEVENT
BEGIN:VEVENT
DTSTART;TZID=America/New_York:20220817T200000
DTEND;TZID=America/New_York:20220817T210000
DTSTAMP:20260422T205522
CREATED:20190305T163841Z
LAST-MODIFIED:20230315T190143Z
UID:10002873-1660766400-1660770000@tabernaclechurch.org
SUMMARY:AA Meeting
DESCRIPTION:
URL:https://tabernaclechurch.org/event/aa-meeting-6/2022-08-17/
END:VEVENT
BEGIN:VEVENT
DTSTART;TZID=America/New_York:20220819T183000
DTEND;TZID=America/New_York:20220819T193000
DTSTAMP:20260422T205522
CREATED:20190305T163447Z
LAST-MODIFIED:20190305T163447Z
UID:10000820-1660933800-1660937400@tabernaclechurch.org
SUMMARY:AA Meeting
DESCRIPTION:
URL:https://tabernaclechurch.org/event/aa-meeting-5/2022-08-19/
END:VEVENT
BEGIN:VEVENT
DTSTART;TZID=America/New_York:20220821T110000
DTEND;TZID=America/New_York:20220821T113000
DTSTAMP:20260422T205522
CREATED:20190305T164635Z
LAST-MODIFIED:20251230T171724Z
UID:10003040-1661079600-1661081400@tabernaclechurch.org
SUMMARY:Fellowship Time
DESCRIPTION:
URL:https://tabernaclechurch.org/event/fellowship-time-2/2022-08-21/
END:VEVENT
BEGIN:VEVENT
DTSTART;TZID=UTC:20220824T190000
DTEND;TZID=UTC:20220824T210000
DTSTAMP:20260422T205522
CREATED:20171023T220124Z
LAST-MODIFIED:20171023T220124Z
UID:10001253-1661367600-1661374800@tabernaclechurch.org
SUMMARY:Bible Study
DESCRIPTION:
URL:https://tabernaclechurch.org/event/bible-study/2022-08-24/
END:VEVENT
BEGIN:VEVENT
DTSTART;TZID=America/New_York:20220824T200000
DTEND;TZID=America/New_York:20220824T210000
DTSTAMP:20260422T205522
CREATED:20190305T163841Z
LAST-MODIFIED:20230315T190143Z
UID:10002874-1661371200-1661374800@tabernaclechurch.org
SUMMARY:AA Meeting
DESCRIPTION:
URL:https://tabernaclechurch.org/event/aa-meeting-6/2022-08-24/
END:VEVENT
BEGIN:VEVENT
DTSTART;TZID=America/New_York:20220826T183000
DTEND;TZID=America/New_York:20220826T193000
DTSTAMP:20260422T205522
CREATED:20190305T163447Z
LAST-MODIFIED:20190305T163447Z
UID:10000821-1661538600-1661542200@tabernaclechurch.org
SUMMARY:AA Meeting
DESCRIPTION:
URL:https://tabernaclechurch.org/event/aa-meeting-5/2022-08-26/
END:VEVENT
BEGIN:VEVENT
DTSTART;TZID=America/New_York:20220828T110000
DTEND;TZID=America/New_York:20220828T113000
DTSTAMP:20260422T205522
CREATED:20190305T164635Z
LAST-MODIFIED:20251230T171724Z
UID:10003041-1661684400-1661686200@tabernaclechurch.org
SUMMARY:Fellowship Time
DESCRIPTION:
URL:https://tabernaclechurch.org/event/fellowship-time-2/2022-08-28/
END:VEVENT
BEGIN:VEVENT
DTSTART;TZID=UTC:20220831T190000
DTEND;TZID=UTC:20220831T210000
DTSTAMP:20260422T205522
CREATED:20171023T220124Z
LAST-MODIFIED:20171023T220124Z
UID:10001254-1661972400-1661979600@tabernaclechurch.org
SUMMARY:Bible Study
DESCRIPTION:
URL:https://tabernaclechurch.org/event/bible-study/2022-08-31/
END:VEVENT
BEGIN:VEVENT
DTSTART;TZID=America/New_York:20220831T200000
DTEND;TZID=America/New_York:20220831T210000
DTSTAMP:20260422T205522
CREATED:20190305T163841Z
LAST-MODIFIED:20230315T190143Z
UID:10002875-1661976000-1661979600@tabernaclechurch.org
SUMMARY:AA Meeting
DESCRIPTION:
URL:https://tabernaclechurch.org/event/aa-meeting-6/2022-08-31/
END:VEVENT
END:VCALENDAR