BEGIN:VCALENDAR
VERSION:2.0
PRODID:-//Tabernacle Church - ECPv6.15.12.2//NONSGML v1.0//EN
CALSCALE:GREGORIAN
METHOD:PUBLISH
X-ORIGINAL-URL:https://tabernaclechurch.org
X-WR-CALDESC:Events for Tabernacle Church
REFRESH-INTERVAL;VALUE=DURATION:PT1H
X-Robots-Tag:noindex
X-PUBLISHED-TTL:PT1H
BEGIN:VTIMEZONE
TZID:America/New_York
BEGIN:DAYLIGHT
TZOFFSETFROM:-0500
TZOFFSETTO:-0400
TZNAME:EDT
DTSTART:20210314T070000
END:DAYLIGHT
BEGIN:STANDARD
TZOFFSETFROM:-0400
TZOFFSETTO:-0500
TZNAME:EST
DTSTART:20211107T060000
END:STANDARD
BEGIN:DAYLIGHT
TZOFFSETFROM:-0500
TZOFFSETTO:-0400
TZNAME:EDT
DTSTART:20220313T070000
END:DAYLIGHT
BEGIN:STANDARD
TZOFFSETFROM:-0400
TZOFFSETTO:-0500
TZNAME:EST
DTSTART:20221106T060000
END:STANDARD
BEGIN:DAYLIGHT
TZOFFSETFROM:-0500
TZOFFSETTO:-0400
TZNAME:EDT
DTSTART:20230312T070000
END:DAYLIGHT
BEGIN:STANDARD
TZOFFSETFROM:-0400
TZOFFSETTO:-0500
TZNAME:EST
DTSTART:20231105T060000
END:STANDARD
END:VTIMEZONE
BEGIN:VTIMEZONE
TZID:UTC
BEGIN:STANDARD
TZOFFSETFROM:+0000
TZOFFSETTO:+0000
TZNAME:UTC
DTSTART:20210101T000000
END:STANDARD
END:VTIMEZONE
BEGIN:VEVENT
DTSTART;TZID=America/New_York:20220902T183000
DTEND;TZID=America/New_York:20220902T193000
DTSTAMP:20260423T065614
CREATED:20190305T163447Z
LAST-MODIFIED:20190305T163447Z
UID:10000822-1662143400-1662147000@tabernaclechurch.org
SUMMARY:AA Meeting
DESCRIPTION:
URL:https://tabernaclechurch.org/event/aa-meeting-5/2022-09-02/
END:VEVENT
BEGIN:VEVENT
DTSTART;TZID=America/New_York:20220904T110000
DTEND;TZID=America/New_York:20220904T113000
DTSTAMP:20260423T065614
CREATED:20190305T164635Z
LAST-MODIFIED:20251230T171724Z
UID:10003042-1662289200-1662291000@tabernaclechurch.org
SUMMARY:Fellowship Time
DESCRIPTION:
URL:https://tabernaclechurch.org/event/fellowship-time-2/2022-09-04/
END:VEVENT
BEGIN:VEVENT
DTSTART;TZID=UTC:20220907T190000
DTEND;TZID=UTC:20220907T210000
DTSTAMP:20260423T065614
CREATED:20171023T220124Z
LAST-MODIFIED:20171023T220124Z
UID:10001255-1662577200-1662584400@tabernaclechurch.org
SUMMARY:Bible Study
DESCRIPTION:
URL:https://tabernaclechurch.org/event/bible-study/2022-09-07/
END:VEVENT
BEGIN:VEVENT
DTSTART;TZID=America/New_York:20220907T200000
DTEND;TZID=America/New_York:20220907T210000
DTSTAMP:20260423T065614
CREATED:20190305T163841Z
LAST-MODIFIED:20230315T190143Z
UID:10002876-1662580800-1662584400@tabernaclechurch.org
SUMMARY:AA Meeting
DESCRIPTION:
URL:https://tabernaclechurch.org/event/aa-meeting-6/2022-09-07/
END:VEVENT
BEGIN:VEVENT
DTSTART;TZID=America/New_York:20220909T183000
DTEND;TZID=America/New_York:20220909T193000
DTSTAMP:20260423T065614
CREATED:20190305T163447Z
LAST-MODIFIED:20190305T163447Z
UID:10000823-1662748200-1662751800@tabernaclechurch.org
SUMMARY:AA Meeting
DESCRIPTION:
URL:https://tabernaclechurch.org/event/aa-meeting-5/2022-09-09/
END:VEVENT
BEGIN:VEVENT
DTSTART;TZID=America/New_York:20220911T110000
DTEND;TZID=America/New_York:20220911T113000
DTSTAMP:20260423T065614
CREATED:20190305T164635Z
LAST-MODIFIED:20251230T171724Z
UID:10003043-1662894000-1662895800@tabernaclechurch.org
SUMMARY:Fellowship Time
DESCRIPTION:
URL:https://tabernaclechurch.org/event/fellowship-time-2/2022-09-11/
END:VEVENT
BEGIN:VEVENT
DTSTART;TZID=UTC:20220914T190000
DTEND;TZID=UTC:20220914T210000
DTSTAMP:20260423T065614
CREATED:20171023T220124Z
LAST-MODIFIED:20171023T220124Z
UID:10001256-1663182000-1663189200@tabernaclechurch.org
SUMMARY:Bible Study
DESCRIPTION:
URL:https://tabernaclechurch.org/event/bible-study/2022-09-14/
END:VEVENT
BEGIN:VEVENT
DTSTART;TZID=America/New_York:20220914T200000
DTEND;TZID=America/New_York:20220914T210000
DTSTAMP:20260423T065614
CREATED:20190305T163841Z
LAST-MODIFIED:20230315T190143Z
UID:10002877-1663185600-1663189200@tabernaclechurch.org
SUMMARY:AA Meeting
DESCRIPTION:
URL:https://tabernaclechurch.org/event/aa-meeting-6/2022-09-14/
END:VEVENT
BEGIN:VEVENT
DTSTART;TZID=America/New_York:20220916T183000
DTEND;TZID=America/New_York:20220916T193000
DTSTAMP:20260423T065614
CREATED:20190305T163447Z
LAST-MODIFIED:20190305T163447Z
UID:10000824-1663353000-1663356600@tabernaclechurch.org
SUMMARY:AA Meeting
DESCRIPTION:
URL:https://tabernaclechurch.org/event/aa-meeting-5/2022-09-16/
END:VEVENT
BEGIN:VEVENT
DTSTART;TZID=America/New_York:20220918T110000
DTEND;TZID=America/New_York:20220918T113000
DTSTAMP:20260423T065614
CREATED:20190305T164635Z
LAST-MODIFIED:20251230T171724Z
UID:10003044-1663498800-1663500600@tabernaclechurch.org
SUMMARY:Fellowship Time
DESCRIPTION:
URL:https://tabernaclechurch.org/event/fellowship-time-2/2022-09-18/
END:VEVENT
BEGIN:VEVENT
DTSTART;TZID=UTC:20220921T190000
DTEND;TZID=UTC:20220921T210000
DTSTAMP:20260423T065614
CREATED:20171023T220124Z
LAST-MODIFIED:20171023T220124Z
UID:10001257-1663786800-1663794000@tabernaclechurch.org
SUMMARY:Bible Study
DESCRIPTION:
URL:https://tabernaclechurch.org/event/bible-study/2022-09-21/
END:VEVENT
BEGIN:VEVENT
DTSTART;TZID=America/New_York:20220921T200000
DTEND;TZID=America/New_York:20220921T210000
DTSTAMP:20260423T065614
CREATED:20190305T163841Z
LAST-MODIFIED:20230315T190143Z
UID:10002878-1663790400-1663794000@tabernaclechurch.org
SUMMARY:AA Meeting
DESCRIPTION:
URL:https://tabernaclechurch.org/event/aa-meeting-6/2022-09-21/
END:VEVENT
BEGIN:VEVENT
DTSTART;TZID=America/New_York:20220923T183000
DTEND;TZID=America/New_York:20220923T193000
DTSTAMP:20260423T065614
CREATED:20190305T163447Z
LAST-MODIFIED:20190305T163447Z
UID:10000825-1663957800-1663961400@tabernaclechurch.org
SUMMARY:AA Meeting
DESCRIPTION:
URL:https://tabernaclechurch.org/event/aa-meeting-5/2022-09-23/
END:VEVENT
BEGIN:VEVENT
DTSTART;TZID=America/New_York:20220925T110000
DTEND;TZID=America/New_York:20220925T113000
DTSTAMP:20260423T065614
CREATED:20190305T164635Z
LAST-MODIFIED:20251230T171724Z
UID:10003045-1664103600-1664105400@tabernaclechurch.org
SUMMARY:Fellowship Time
DESCRIPTION:
URL:https://tabernaclechurch.org/event/fellowship-time-2/2022-09-25/
END:VEVENT
BEGIN:VEVENT
DTSTART;TZID=UTC:20220928T190000
DTEND;TZID=UTC:20220928T210000
DTSTAMP:20260423T065614
CREATED:20171023T220124Z
LAST-MODIFIED:20171023T220124Z
UID:10001258-1664391600-1664398800@tabernaclechurch.org
SUMMARY:Bible Study
DESCRIPTION:
URL:https://tabernaclechurch.org/event/bible-study/2022-09-28/
END:VEVENT
BEGIN:VEVENT
DTSTART;TZID=America/New_York:20220928T200000
DTEND;TZID=America/New_York:20220928T210000
DTSTAMP:20260423T065614
CREATED:20190305T163841Z
LAST-MODIFIED:20230315T190143Z
UID:10002879-1664395200-1664398800@tabernaclechurch.org
SUMMARY:AA Meeting
DESCRIPTION:
URL:https://tabernaclechurch.org/event/aa-meeting-6/2022-09-28/
END:VEVENT
BEGIN:VEVENT
DTSTART;TZID=America/New_York:20220930T183000
DTEND;TZID=America/New_York:20220930T193000
DTSTAMP:20260423T065614
CREATED:20190305T163447Z
LAST-MODIFIED:20190305T163447Z
UID:10000826-1664562600-1664566200@tabernaclechurch.org
SUMMARY:AA Meeting
DESCRIPTION:
URL:https://tabernaclechurch.org/event/aa-meeting-5/2022-09-30/
END:VEVENT
END:VCALENDAR