BEGIN:VCALENDAR
VERSION:2.0
PRODID:-//Tabernacle Church - ECPv6.15.12.2//NONSGML v1.0//EN
CALSCALE:GREGORIAN
METHOD:PUBLISH
X-WR-CALNAME:Tabernacle Church
X-ORIGINAL-URL:https://tabernaclechurch.org
X-WR-CALDESC:Events for Tabernacle Church
REFRESH-INTERVAL;VALUE=DURATION:PT1H
X-Robots-Tag:noindex
X-PUBLISHED-TTL:PT1H
BEGIN:VTIMEZONE
TZID:America/New_York
BEGIN:DAYLIGHT
TZOFFSETFROM:-0500
TZOFFSETTO:-0400
TZNAME:EDT
DTSTART:20260308T070000
END:DAYLIGHT
BEGIN:STANDARD
TZOFFSETFROM:-0400
TZOFFSETTO:-0500
TZNAME:EST
DTSTART:20261101T060000
END:STANDARD
BEGIN:DAYLIGHT
TZOFFSETFROM:-0500
TZOFFSETTO:-0400
TZNAME:EDT
DTSTART:20270314T070000
END:DAYLIGHT
BEGIN:STANDARD
TZOFFSETFROM:-0400
TZOFFSETTO:-0500
TZNAME:EST
DTSTART:20271107T060000
END:STANDARD
BEGIN:DAYLIGHT
TZOFFSETFROM:-0500
TZOFFSETTO:-0400
TZNAME:EDT
DTSTART:20280312T070000
END:DAYLIGHT
BEGIN:STANDARD
TZOFFSETFROM:-0400
TZOFFSETTO:-0500
TZNAME:EST
DTSTART:20281105T060000
END:STANDARD
END:VTIMEZONE
BEGIN:VEVENT
DTSTART;TZID=America/New_York:20270901T180000
DTEND;TZID=America/New_York:20270901T184500
DTSTAMP:20260422T215436
CREATED:20240208T145736Z
LAST-MODIFIED:20240208T145736Z
UID:10004324-1819821600-1819824300@tabernaclechurch.org
SUMMARY:Zoom Team Meeting
DESCRIPTION:
URL:https://tabernaclechurch.org/event/zoom-team-meeting/2027-09-01/
END:VEVENT
BEGIN:VEVENT
DTSTART;TZID=America/New_York:20270901T190000
DTEND;TZID=America/New_York:20270901T200000
DTSTAMP:20260422T215436
CREATED:20240208T150721Z
LAST-MODIFIED:20240208T150721Z
UID:10004965-1819825200-1819828800@tabernaclechurch.org
SUMMARY:Bible Study
DESCRIPTION:
URL:https://tabernaclechurch.org/event/bible-study-2/2027-09-01/
END:VEVENT
BEGIN:VEVENT
DTSTART;TZID=America/New_York:20270903T190000
DTEND;TZID=America/New_York:20270903T200000
DTSTAMP:20260422T215436
CREATED:20240327T184625Z
LAST-MODIFIED:20240327T184626Z
UID:10005606-1819998000-1820001600@tabernaclechurch.org
SUMMARY:AA Meeting
DESCRIPTION:
URL:https://tabernaclechurch.org/event/aa-meeting-5-2/2027-09-03/
END:VEVENT
BEGIN:VEVENT
DTSTART;TZID=America/New_York:20270905T100000
DTEND;TZID=America/New_York:20270905T110000
DTSTAMP:20260422T215436
CREATED:20231101T182136Z
LAST-MODIFIED:20231101T182136Z
UID:10003883-1820138400-1820142000@tabernaclechurch.org
SUMMARY:Communion Sunday
DESCRIPTION:
URL:https://tabernaclechurch.org/event/communion-sunday/2027-09-05/
END:VEVENT
BEGIN:VEVENT
DTSTART;TZID=America/New_York:20270905T100000
DTEND;TZID=America/New_York:20270905T110000
DTSTAMP:20260422T215436
CREATED:20250116T180413Z
LAST-MODIFIED:20251230T171352Z
UID:10005852-1820138400-1820142000@tabernaclechurch.org
SUMMARY:Sunday Morning Worship in person or online
DESCRIPTION:
URL:https://tabernaclechurch.org/event/sunday-morning-worship-in-person-or-online/2027-09-05/
LOCATION:Tabernacle Church\, 50 Washington Street\, Salem\, MA\, 01970\, United States
GEO:42.5228131;-70.8961056
X-APPLE-STRUCTURED-LOCATION;VALUE=URI;X-ADDRESS=Tabernacle Church 50 Washington Street Salem MA 01970 United States;X-APPLE-RADIUS=500;X-TITLE=50 Washington Street:geo:-70.8961056,42.5228131
END:VEVENT
BEGIN:VEVENT
DTSTART;TZID=America/New_York:20270905T110000
DTEND;TZID=America/New_York:20270905T113000
DTSTAMP:20260422T215436
CREATED:20190305T164635Z
LAST-MODIFIED:20251230T171724Z
UID:10006152-1820142000-1820143800@tabernaclechurch.org
SUMMARY:Fellowship Time
DESCRIPTION:
URL:https://tabernaclechurch.org/event/fellowship-time-2/2027-09-05/
END:VEVENT
BEGIN:VEVENT
DTSTART;TZID=America/New_York:20270906T100000
DTEND;TZID=America/New_York:20270906T110000
DTSTAMP:20260422T215436
CREATED:20240208T145619Z
LAST-MODIFIED:20240208T145619Z
UID:10004264-1820224800-1820228400@tabernaclechurch.org
SUMMARY:Music and Arts Meeting
DESCRIPTION:
URL:https://tabernaclechurch.org/event/music-and-arts-meeting/2027-09-06/
END:VEVENT
BEGIN:VEVENT
DTSTART;TZID=America/New_York:20270906T150000
DTEND;TZID=America/New_York:20270906T160000
DTSTAMP:20260422T215436
CREATED:20260415T180319Z
LAST-MODIFIED:20260415T180741Z
UID:10006462-1820242800-1820246400@tabernaclechurch.org
SUMMARY:Study Group
DESCRIPTION:Evolution of New Study Group \nIf you’ve been in church or read This Week during Lent you heard about our Bonhoeffer Study Group.  That group per se has come to an end this past week.  It’s been a very thought-provoking discussion group.  So much so that the group has decided to continue in some fashion.  Our incredible “teacher/mentor/leader”\, Stephen Fisher\, has agreed to lead us on a journey of “Mothers of the Church” for our next round.  Stephen will be preparing a syllabus on Hildegard of Bingen\, Julian of Norwich\, Catherine of Siena\, Katherine Parr\, Teresa of Avila and Anne Bradstreet.  Never heard of some or all of them?  Curious?  Come join this incredulous group.  It doesn’t require a lot of reading.  In fact you can just come and listen and you will learn a lot. \nThis next round of theological discussion will begin Monday\, June 1st\, at 3 pm in the Bigelow Room.  Watch for more announcements as we get closer to June but do consider joining us for some stimulating discussions.
URL:https://tabernaclechurch.org/event/lenten-study-group-on-dietrich-bonhoeffer-2-2/2027-09-06/
END:VEVENT
BEGIN:VEVENT
DTSTART;TZID=America/New_York:20270906T190000
DTEND;TZID=America/New_York:20270906T200000
DTSTAMP:20260422T215436
CREATED:20231101T183350Z
LAST-MODIFIED:20231101T183350Z
UID:10004158-1820257200-1820260800@tabernaclechurch.org
SUMMARY:Alanon Meeting
DESCRIPTION:
URL:https://tabernaclechurch.org/event/alanon-meeting/2027-09-06/
END:VEVENT
BEGIN:VEVENT
DTSTART;TZID=America/New_York:20270906T190000
DTEND;TZID=America/New_York:20270906T203000
DTSTAMP:20260422T215436
CREATED:20240208T190244Z
LAST-MODIFIED:20240208T190244Z
UID:10005083-1820257200-1820262600@tabernaclechurch.org
SUMMARY:Threshold Singers Rehearsal
DESCRIPTION:
URL:https://tabernaclechurch.org/event/threshold-singers-rehearsal/2027-09-06/
END:VEVENT
BEGIN:VEVENT
DTSTART;TZID=America/New_York:20270907T180000
DTEND;TZID=America/New_York:20270907T203000
DTSTAMP:20260422T215436
CREATED:20240208T150251Z
LAST-MODIFIED:20240326T130613Z
UID:10005348-1820340000-1820349000@tabernaclechurch.org
SUMMARY:Zilber Beatles Band Rehearsal
DESCRIPTION:
URL:https://tabernaclechurch.org/event/zilber-beatles-band-rehearsal/2027-09-07/
END:VEVENT
BEGIN:VEVENT
DTSTART;TZID=America/New_York:20270908T190000
DTEND;TZID=America/New_York:20270908T200000
DTSTAMP:20260422T215436
CREATED:20240208T150721Z
LAST-MODIFIED:20240208T150721Z
UID:10004966-1820430000-1820433600@tabernaclechurch.org
SUMMARY:Bible Study
DESCRIPTION:
URL:https://tabernaclechurch.org/event/bible-study-2/2027-09-08/
END:VEVENT
BEGIN:VEVENT
DTSTART;TZID=America/New_York:20270910T190000
DTEND;TZID=America/New_York:20270910T200000
DTSTAMP:20260422T215436
CREATED:20240327T184625Z
LAST-MODIFIED:20240327T184626Z
UID:10005607-1820602800-1820606400@tabernaclechurch.org
SUMMARY:AA Meeting
DESCRIPTION:
URL:https://tabernaclechurch.org/event/aa-meeting-5-2/2027-09-10/
END:VEVENT
BEGIN:VEVENT
DTSTART;TZID=America/New_York:20270912T100000
DTEND;TZID=America/New_York:20270912T110000
DTSTAMP:20260422T215436
CREATED:20250116T180413Z
LAST-MODIFIED:20251230T171352Z
UID:10005853-1820743200-1820746800@tabernaclechurch.org
SUMMARY:Sunday Morning Worship in person or online
DESCRIPTION:
URL:https://tabernaclechurch.org/event/sunday-morning-worship-in-person-or-online/2027-09-12/
LOCATION:Tabernacle Church\, 50 Washington Street\, Salem\, MA\, 01970\, United States
GEO:42.5228131;-70.8961056
X-APPLE-STRUCTURED-LOCATION;VALUE=URI;X-ADDRESS=Tabernacle Church 50 Washington Street Salem MA 01970 United States;X-APPLE-RADIUS=500;X-TITLE=50 Washington Street:geo:-70.8961056,42.5228131
END:VEVENT
BEGIN:VEVENT
DTSTART;TZID=America/New_York:20270912T110000
DTEND;TZID=America/New_York:20270912T113000
DTSTAMP:20260422T215436
CREATED:20190305T164635Z
LAST-MODIFIED:20251230T171724Z
UID:10006153-1820746800-1820748600@tabernaclechurch.org
SUMMARY:Fellowship Time
DESCRIPTION:
URL:https://tabernaclechurch.org/event/fellowship-time-2/2027-09-12/
END:VEVENT
BEGIN:VEVENT
DTSTART;TZID=America/New_York:20270913T150000
DTEND;TZID=America/New_York:20270913T160000
DTSTAMP:20260422T215436
CREATED:20260415T180319Z
LAST-MODIFIED:20260415T180741Z
UID:10006463-1820847600-1820851200@tabernaclechurch.org
SUMMARY:Study Group
DESCRIPTION:Evolution of New Study Group \nIf you’ve been in church or read This Week during Lent you heard about our Bonhoeffer Study Group.  That group per se has come to an end this past week.  It’s been a very thought-provoking discussion group.  So much so that the group has decided to continue in some fashion.  Our incredible “teacher/mentor/leader”\, Stephen Fisher\, has agreed to lead us on a journey of “Mothers of the Church” for our next round.  Stephen will be preparing a syllabus on Hildegard of Bingen\, Julian of Norwich\, Catherine of Siena\, Katherine Parr\, Teresa of Avila and Anne Bradstreet.  Never heard of some or all of them?  Curious?  Come join this incredulous group.  It doesn’t require a lot of reading.  In fact you can just come and listen and you will learn a lot. \nThis next round of theological discussion will begin Monday\, June 1st\, at 3 pm in the Bigelow Room.  Watch for more announcements as we get closer to June but do consider joining us for some stimulating discussions.
URL:https://tabernaclechurch.org/event/lenten-study-group-on-dietrich-bonhoeffer-2-2/2027-09-13/
END:VEVENT
BEGIN:VEVENT
DTSTART;TZID=America/New_York:20270913T190000
DTEND;TZID=America/New_York:20270913T200000
DTSTAMP:20260422T215436
CREATED:20231101T183350Z
LAST-MODIFIED:20231101T183350Z
UID:10004159-1820862000-1820865600@tabernaclechurch.org
SUMMARY:Alanon Meeting
DESCRIPTION:
URL:https://tabernaclechurch.org/event/alanon-meeting/2027-09-13/
END:VEVENT
BEGIN:VEVENT
DTSTART;TZID=America/New_York:20270913T190000
DTEND;TZID=America/New_York:20270913T203000
DTSTAMP:20260422T215436
CREATED:20240208T145941Z
LAST-MODIFIED:20240208T145941Z
UID:10004384-1820862000-1820867400@tabernaclechurch.org
SUMMARY:Deacons Meeting
DESCRIPTION:
URL:https://tabernaclechurch.org/event/deacons-meeting-12/2027-09-13/
END:VEVENT
BEGIN:VEVENT
DTSTART;TZID=America/New_York:20270914T180000
DTEND;TZID=America/New_York:20270914T203000
DTSTAMP:20260422T215436
CREATED:20240208T150251Z
LAST-MODIFIED:20240326T130613Z
UID:10005349-1820944800-1820953800@tabernaclechurch.org
SUMMARY:Zilber Beatles Band Rehearsal
DESCRIPTION:
URL:https://tabernaclechurch.org/event/zilber-beatles-band-rehearsal/2027-09-14/
END:VEVENT
BEGIN:VEVENT
DTSTART;TZID=America/New_York:20270914T190000
DTEND;TZID=America/New_York:20270914T200000
DTSTAMP:20260422T215436
CREATED:20240208T150045Z
LAST-MODIFIED:20240208T150045Z
UID:10004443-1820948400-1820952000@tabernaclechurch.org
SUMMARY:Missions Meeting
DESCRIPTION:
URL:https://tabernaclechurch.org/event/missions-meeting/2027-09-14/
END:VEVENT
BEGIN:VEVENT
DTSTART;TZID=America/New_York:20270915T190000
DTEND;TZID=America/New_York:20270915T200000
DTSTAMP:20260422T215436
CREATED:20240208T150721Z
LAST-MODIFIED:20240208T150721Z
UID:10004967-1821034800-1821038400@tabernaclechurch.org
SUMMARY:Bible Study
DESCRIPTION:
URL:https://tabernaclechurch.org/event/bible-study-2/2027-09-15/
END:VEVENT
BEGIN:VEVENT
DTSTART;TZID=America/New_York:20270917T190000
DTEND;TZID=America/New_York:20270917T200000
DTSTAMP:20260422T215436
CREATED:20240327T184625Z
LAST-MODIFIED:20240327T184626Z
UID:10005608-1821207600-1821211200@tabernaclechurch.org
SUMMARY:AA Meeting
DESCRIPTION:
URL:https://tabernaclechurch.org/event/aa-meeting-5-2/2027-09-17/
END:VEVENT
BEGIN:VEVENT
DTSTART;TZID=America/New_York:20270919T100000
DTEND;TZID=America/New_York:20270919T110000
DTSTAMP:20260422T215436
CREATED:20250116T180413Z
LAST-MODIFIED:20251230T171352Z
UID:10005854-1821348000-1821351600@tabernaclechurch.org
SUMMARY:Sunday Morning Worship in person or online
DESCRIPTION:
URL:https://tabernaclechurch.org/event/sunday-morning-worship-in-person-or-online/2027-09-19/
LOCATION:Tabernacle Church\, 50 Washington Street\, Salem\, MA\, 01970\, United States
GEO:42.5228131;-70.8961056
X-APPLE-STRUCTURED-LOCATION;VALUE=URI;X-ADDRESS=Tabernacle Church 50 Washington Street Salem MA 01970 United States;X-APPLE-RADIUS=500;X-TITLE=50 Washington Street:geo:-70.8961056,42.5228131
END:VEVENT
BEGIN:VEVENT
DTSTART;TZID=America/New_York:20270919T110000
DTEND;TZID=America/New_York:20270919T113000
DTSTAMP:20260422T215436
CREATED:20190305T164635Z
LAST-MODIFIED:20251230T171724Z
UID:10006154-1821351600-1821353400@tabernaclechurch.org
SUMMARY:Fellowship Time
DESCRIPTION:
URL:https://tabernaclechurch.org/event/fellowship-time-2/2027-09-19/
END:VEVENT
BEGIN:VEVENT
DTSTART;TZID=America/New_York:20270920T150000
DTEND;TZID=America/New_York:20270920T160000
DTSTAMP:20260422T215436
CREATED:20260415T180319Z
LAST-MODIFIED:20260415T180741Z
UID:10006464-1821452400-1821456000@tabernaclechurch.org
SUMMARY:Study Group
DESCRIPTION:Evolution of New Study Group \nIf you’ve been in church or read This Week during Lent you heard about our Bonhoeffer Study Group.  That group per se has come to an end this past week.  It’s been a very thought-provoking discussion group.  So much so that the group has decided to continue in some fashion.  Our incredible “teacher/mentor/leader”\, Stephen Fisher\, has agreed to lead us on a journey of “Mothers of the Church” for our next round.  Stephen will be preparing a syllabus on Hildegard of Bingen\, Julian of Norwich\, Catherine of Siena\, Katherine Parr\, Teresa of Avila and Anne Bradstreet.  Never heard of some or all of them?  Curious?  Come join this incredulous group.  It doesn’t require a lot of reading.  In fact you can just come and listen and you will learn a lot. \nThis next round of theological discussion will begin Monday\, June 1st\, at 3 pm in the Bigelow Room.  Watch for more announcements as we get closer to June but do consider joining us for some stimulating discussions.
URL:https://tabernaclechurch.org/event/lenten-study-group-on-dietrich-bonhoeffer-2-2/2027-09-20/
END:VEVENT
BEGIN:VEVENT
DTSTART;TZID=America/New_York:20270920T190000
DTEND;TZID=America/New_York:20270920T200000
DTSTAMP:20260422T215436
CREATED:20231101T183350Z
LAST-MODIFIED:20231101T183350Z
UID:10004160-1821466800-1821470400@tabernaclechurch.org
SUMMARY:Alanon Meeting
DESCRIPTION:
URL:https://tabernaclechurch.org/event/alanon-meeting/2027-09-20/
END:VEVENT
BEGIN:VEVENT
DTSTART;TZID=America/New_York:20270920T190000
DTEND;TZID=America/New_York:20270920T203000
DTSTAMP:20260422T215436
CREATED:20240208T190348Z
LAST-MODIFIED:20240208T190348Z
UID:10005144-1821466800-1821472200@tabernaclechurch.org
SUMMARY:Threshold Singers Rehearsal
DESCRIPTION:
URL:https://tabernaclechurch.org/event/threshold-singers-rehearsal-2/2027-09-20/
END:VEVENT
BEGIN:VEVENT
DTSTART;TZID=America/New_York:20270921T180000
DTEND;TZID=America/New_York:20270921T203000
DTSTAMP:20260422T215436
CREATED:20240208T150251Z
LAST-MODIFIED:20240326T130613Z
UID:10005350-1821549600-1821558600@tabernaclechurch.org
SUMMARY:Zilber Beatles Band Rehearsal
DESCRIPTION:
URL:https://tabernaclechurch.org/event/zilber-beatles-band-rehearsal/2027-09-21/
END:VEVENT
BEGIN:VEVENT
DTSTART;TZID=America/New_York:20270921T190000
DTEND;TZID=America/New_York:20270921T210000
DTSTAMP:20260422T215436
CREATED:20240208T150135Z
LAST-MODIFIED:20240208T150135Z
UID:10004502-1821553200-1821560400@tabernaclechurch.org
SUMMARY:Church Council
DESCRIPTION:
URL:https://tabernaclechurch.org/event/church-council/2027-09-21/
END:VEVENT
BEGIN:VEVENT
DTSTART;TZID=America/New_York:20270922T190000
DTEND;TZID=America/New_York:20270922T200000
DTSTAMP:20260422T215436
CREATED:20240208T150721Z
LAST-MODIFIED:20240208T150721Z
UID:10004968-1821639600-1821643200@tabernaclechurch.org
SUMMARY:Bible Study
DESCRIPTION:
URL:https://tabernaclechurch.org/event/bible-study-2/2027-09-22/
END:VEVENT
END:VCALENDAR