BEGIN:VCALENDAR
VERSION:2.0
PRODID:-//Tabernacle Church - ECPv6.15.12.2//NONSGML v1.0//EN
CALSCALE:GREGORIAN
METHOD:PUBLISH
X-WR-CALNAME:Tabernacle Church
X-ORIGINAL-URL:https://tabernaclechurch.org
X-WR-CALDESC:Events for Tabernacle Church
REFRESH-INTERVAL;VALUE=DURATION:PT1H
X-Robots-Tag:noindex
X-PUBLISHED-TTL:PT1H
BEGIN:VTIMEZONE
TZID:America/New_York
BEGIN:DAYLIGHT
TZOFFSETFROM:-0500
TZOFFSETTO:-0400
TZNAME:EDT
DTSTART:20190310T070000
END:DAYLIGHT
BEGIN:STANDARD
TZOFFSETFROM:-0400
TZOFFSETTO:-0500
TZNAME:EST
DTSTART:20191103T060000
END:STANDARD
BEGIN:DAYLIGHT
TZOFFSETFROM:-0500
TZOFFSETTO:-0400
TZNAME:EDT
DTSTART:20200308T070000
END:DAYLIGHT
BEGIN:STANDARD
TZOFFSETFROM:-0400
TZOFFSETTO:-0500
TZNAME:EST
DTSTART:20201101T060000
END:STANDARD
BEGIN:DAYLIGHT
TZOFFSETFROM:-0500
TZOFFSETTO:-0400
TZNAME:EDT
DTSTART:20210314T070000
END:DAYLIGHT
BEGIN:STANDARD
TZOFFSETFROM:-0400
TZOFFSETTO:-0500
TZNAME:EST
DTSTART:20211107T060000
END:STANDARD
END:VTIMEZONE
BEGIN:VTIMEZONE
TZID:UTC
BEGIN:STANDARD
TZOFFSETFROM:+0000
TZOFFSETTO:+0000
TZNAME:UTC
DTSTART:20190101T000000
END:STANDARD
END:VTIMEZONE
BEGIN:VEVENT
DTSTART;TZID=America/New_York:20201206T100000
DTEND;TZID=America/New_York:20201206T110000
DTSTAMP:20260424T203111
CREATED:20190411T161601Z
LAST-MODIFIED:20190411T225031Z
UID:10002691-1607248800-1607252400@tabernaclechurch.org
SUMMARY:Sunday Service
DESCRIPTION:
URL:https://tabernaclechurch.org/event/sunday-service/2020-12-06/
LOCATION:Tabernacle Church\, 50 Washington Street\, Salem\, MA\, 01970\, United States
GEO:42.5228131;-70.8961056
X-APPLE-STRUCTURED-LOCATION;VALUE=URI;X-ADDRESS=Tabernacle Church 50 Washington Street Salem MA 01970 United States;X-APPLE-RADIUS=500;X-TITLE=50 Washington Street:geo:-70.8961056,42.5228131
END:VEVENT
BEGIN:VEVENT
DTSTART;TZID=UTC:20201209T190000
DTEND;TZID=UTC:20201209T210000
DTSTAMP:20260424T203111
CREATED:20171023T220124Z
LAST-MODIFIED:20171023T220124Z
UID:10001164-1607540400-1607547600@tabernaclechurch.org
SUMMARY:Bible Study
DESCRIPTION:
URL:https://tabernaclechurch.org/event/bible-study/2020-12-09/
END:VEVENT
END:VCALENDAR