BEGIN:VCALENDAR
VERSION:2.0
PRODID:-//Tabernacle Church - ECPv6.15.12.2//NONSGML v1.0//EN
CALSCALE:GREGORIAN
METHOD:PUBLISH
X-WR-CALNAME:Tabernacle Church
X-ORIGINAL-URL:https://tabernaclechurch.org
X-WR-CALDESC:Events for Tabernacle Church
REFRESH-INTERVAL;VALUE=DURATION:PT1H
X-Robots-Tag:noindex
X-PUBLISHED-TTL:PT1H
BEGIN:VTIMEZONE
TZID:America/New_York
BEGIN:DAYLIGHT
TZOFFSETFROM:-0500
TZOFFSETTO:-0400
TZNAME:EDT
DTSTART:20210314T070000
END:DAYLIGHT
BEGIN:STANDARD
TZOFFSETFROM:-0400
TZOFFSETTO:-0500
TZNAME:EST
DTSTART:20211107T060000
END:STANDARD
BEGIN:DAYLIGHT
TZOFFSETFROM:-0500
TZOFFSETTO:-0400
TZNAME:EDT
DTSTART:20220313T070000
END:DAYLIGHT
BEGIN:STANDARD
TZOFFSETFROM:-0400
TZOFFSETTO:-0500
TZNAME:EST
DTSTART:20221106T060000
END:STANDARD
BEGIN:DAYLIGHT
TZOFFSETFROM:-0500
TZOFFSETTO:-0400
TZNAME:EDT
DTSTART:20230312T070000
END:DAYLIGHT
BEGIN:STANDARD
TZOFFSETFROM:-0400
TZOFFSETTO:-0500
TZNAME:EST
DTSTART:20231105T060000
END:STANDARD
END:VTIMEZONE
BEGIN:VTIMEZONE
TZID:UTC
BEGIN:STANDARD
TZOFFSETFROM:+0000
TZOFFSETTO:+0000
TZNAME:UTC
DTSTART:20210101T000000
END:STANDARD
END:VTIMEZONE
BEGIN:VEVENT
DTSTART;TZID=America/New_York:20221030T100000
DTEND;TZID=America/New_York:20221030T110000
DTSTAMP:20260418T213627
CREATED:20220929T140302Z
LAST-MODIFIED:20220929T141146Z
UID:10003714-1667124000-1667127600@tabernaclechurch.org
SUMMARY:Sunday Worship In Person and Online
DESCRIPTION:
URL:https://tabernaclechurch.org/event/sunday-worship-in-person-and-online/2022-10-30/
END:VEVENT
BEGIN:VEVENT
DTSTART;TZID=America/New_York:20221030T110000
DTEND;TZID=America/New_York:20221030T113000
DTSTAMP:20260418T213627
CREATED:20190305T164635Z
LAST-MODIFIED:20251230T171724Z
UID:10003050-1667127600-1667129400@tabernaclechurch.org
SUMMARY:Fellowship Time
DESCRIPTION:
URL:https://tabernaclechurch.org/event/fellowship-time-2/2022-10-30/
END:VEVENT
BEGIN:VEVENT
DTSTART;TZID=UTC:20221102T190000
DTEND;TZID=UTC:20221102T210000
DTSTAMP:20260418T213627
CREATED:20171023T220124Z
LAST-MODIFIED:20171023T220124Z
UID:10001263-1667415600-1667422800@tabernaclechurch.org
SUMMARY:Bible Study
DESCRIPTION:
URL:https://tabernaclechurch.org/event/bible-study/2022-11-02/
END:VEVENT
BEGIN:VEVENT
DTSTART;TZID=America/New_York:20221104T183000
DTEND;TZID=America/New_York:20221104T193000
DTSTAMP:20260418T213627
CREATED:20190305T163447Z
LAST-MODIFIED:20190305T163447Z
UID:10000831-1667586600-1667590200@tabernaclechurch.org
SUMMARY:AA Meeting
DESCRIPTION:
URL:https://tabernaclechurch.org/event/aa-meeting-5/2022-11-04/
END:VEVENT
END:VCALENDAR